
BEGIN:VCALENDAR
VERSION:2.0
PRODID:-//EACMFS - ECPv6.15.20//NONSGML v1.0//EN
CALSCALE:GREGORIAN
METHOD:PUBLISH
X-WR-CALNAME:EACMFS
X-ORIGINAL-URL:https://www.eacmfs.org
X-WR-CALDESC:Events for EACMFS
REFRESH-INTERVAL;VALUE=DURATION:PT1H
X-Robots-Tag:noindex
X-PUBLISHED-TTL:PT1H
BEGIN:VTIMEZONE
TZID:Europe/Paris
BEGIN:DAYLIGHT
TZOFFSETFROM:+0100
TZOFFSETTO:+0200
TZNAME:CEST
DTSTART:20250330T010000
END:DAYLIGHT
BEGIN:STANDARD
TZOFFSETFROM:+0200
TZOFFSETTO:+0100
TZNAME:CET
DTSTART:20251026T010000
END:STANDARD
BEGIN:DAYLIGHT
TZOFFSETFROM:+0100
TZOFFSETTO:+0200
TZNAME:CEST
DTSTART:20260329T010000
END:DAYLIGHT
BEGIN:STANDARD
TZOFFSETFROM:+0200
TZOFFSETTO:+0100
TZNAME:CET
DTSTART:20261025T010000
END:STANDARD
BEGIN:DAYLIGHT
TZOFFSETFROM:+0100
TZOFFSETTO:+0200
TZNAME:CEST
DTSTART:20270328T010000
END:DAYLIGHT
BEGIN:STANDARD
TZOFFSETFROM:+0200
TZOFFSETTO:+0100
TZNAME:CET
DTSTART:20271031T010000
END:STANDARD
END:VTIMEZONE
BEGIN:VTIMEZONE
TZID:UTC
BEGIN:STANDARD
TZOFFSETFROM:+0000
TZOFFSETTO:+0000
TZNAME:UTC
DTSTART:20240101T000000
END:STANDARD
END:VTIMEZONE
BEGIN:VEVENT
DTSTART;TZID=Europe/Paris:20260421T180000
DTEND;TZID=Europe/Paris:20260421T190000
DTSTAMP:20260423T162602
CREATED:20260318T145004Z
LAST-MODIFIED:20260318T145004Z
UID:22577-1776794400-1776798000@www.eacmfs.org
SUMMARY:SORG WEBschool Series: Secondary cleft correction
DESCRIPTION:Speaker: Prof Reha Kisnisci \nWebsite: S.O.R.G. | WEBSchool | Cleft and craniofacial series \nContact: \nTelephone: +49 7461 706-216\nFax: +49 7461 706-350\nEmail: info@sorg-group.com \nAll webinars are free of charge. Participants who attend a webinar will receive a certificate of participation.
URL:https://www.eacmfs.org/event/sorg-webschool-series-secondary-cleft-correction/
LOCATION:Online event\, Online
CATEGORIES:Other Courses
END:VEVENT
BEGIN:VEVENT
DTSTART;TZID=UTC:20260417T080000
DTEND;TZID=UTC:20260419T170000
DTSTAMP:20260423T162602
CREATED:20251031T124444Z
LAST-MODIFIED:20251031T125100Z
UID:22203-1776412800-1776618000@www.eacmfs.org
SUMMARY:67th CONGRESS OF THE KOREAN ASSOCIATION FOR ORAL AND MAXILLOFACIAL SURGEONS - SEOUL
DESCRIPTION:
URL:https://www.eacmfs.org/event/67th-congress-of-the-korean-association-for-oral-and-maxillofacial-surgeons-seoul/
LOCATION:Cha Bio Complex\, Bundang\, Bundang 335 Pangyo-ro\, Bundang-gu\, Seongnam-Gyeonggi-do\, 13496\, Korea\, Republic of
CATEGORIES:Other Courses
END:VEVENT
BEGIN:VEVENT
DTSTART;TZID=Europe/Paris:20260416T180000
DTEND;TZID=Europe/Paris:20260416T190000
DTSTAMP:20260423T162602
CREATED:20260318T144735Z
LAST-MODIFIED:20260318T144735Z
UID:22574-1776362400-1776366000@www.eacmfs.org
SUMMARY:SORG WEBSchool Series: Craniofacial microsomia
DESCRIPTION:Speaker: Mr Nadeem Saeed \nWebsite: S.O.R.G. | WEBSchool | Cleft and craniofacial series \nContact:  \nTelephone: +49 7461 706-216\nFax: +49 7461 706-350\nEmail: info@sorg-group.com \nAll webinars are free of charge. Participants who attend a webinar will receive a certificate of participation.
URL:https://www.eacmfs.org/event/sorg-webschool-series-craniofacial-microsomia/
LOCATION:Online event\, Online
CATEGORIES:Other Courses
END:VEVENT
BEGIN:VEVENT
DTSTART;VALUE=DATE:20260410
DTEND;VALUE=DATE:20260411
DTSTAMP:20260423T162602
CREATED:20250904T101830Z
LAST-MODIFIED:20250904T101830Z
UID:22027-1775779200-1775865599@www.eacmfs.org
SUMMARY:Introduction to Orthognathic Surgery – How to Prepare Yourself to Avoid Any Mistakes
DESCRIPTION:Lecturers: Prof Kamil Nelke\, Dr Irma Maag \nWebsite: https://poznanlab.pl/event/introduction-to-orthognathic-surgery-how-to-prepare-yourself-to-avoid-any-mistakes/ \nEmail: w.napierala@poznanlab.pl
URL:https://www.eacmfs.org/event/introduction-to-orthognathic-surgery-how-to-prepare-yourself-to-avoid-any-mistakes/
LOCATION:Poznan Lab\, Leśna 42a\, Przeźmierowo\, 62-081\, Poland
CATEGORIES:Other Courses
END:VEVENT
BEGIN:VEVENT
DTSTART;VALUE=DATE:20260327
DTEND;VALUE=DATE:20260330
DTSTAMP:20260423T162602
CREATED:20250717T160126Z
LAST-MODIFIED:20250717T160126Z
UID:21941-1774569600-1774828799@www.eacmfs.org
SUMMARY:17th Asian Congress of Oral & Maxillofacial Surgery
DESCRIPTION:Pre-Congress Workshop: 26 March 2026
URL:https://www.eacmfs.org/event/17th-asian-congress-of-oral-maxillofacial-surgery/
LOCATION:Hong Kong Convention Centre\, Hong Kong\, China
CATEGORIES:Other Courses
END:VEVENT
BEGIN:VEVENT
DTSTART;TZID=Europe/Paris:20260326T180000
DTEND;TZID=Europe/Paris:20260326T190000
DTSTAMP:20260423T162602
CREATED:20260318T144345Z
LAST-MODIFIED:20260318T144433Z
UID:22571-1774548000-1774551600@www.eacmfs.org
SUMMARY:SORG WEBSchool Series: Syndromic craniosynostosis
DESCRIPTION:Speaker: Ms Anusha Hennedige \nWebsite: S.O.R.G. | WEBSchool | Cleft and craniofacial series \nContact:  \nTelephone: +49 7461 706-216\nFax: +49 7461 706-350\nEmail: info@sorg-group.com \nAll webinars are free of charge. Participants who attend a webinar will receive a certificate of participation.
URL:https://www.eacmfs.org/event/sorg-webschool-series-syndromic-craniosynostosis/
LOCATION:Online event\, Online
CATEGORIES:Other Courses
END:VEVENT
BEGIN:VEVENT
DTSTART;TZID=UTC:20260321T080000
DTEND;TZID=UTC:20260322T170000
DTSTAMP:20260423T162602
CREATED:20251021T123529Z
LAST-MODIFIED:20251021T123615Z
UID:22145-1774080000-1774198800@www.eacmfs.org
SUMMARY:EACMFS Condyle Fractures Course - Ljubljana\, Slovenia - to be confirmed
DESCRIPTION:
URL:https://www.eacmfs.org/event/eacmfs-condyle-fractures-course-tbc/
CATEGORIES:Other Courses
END:VEVENT
BEGIN:VEVENT
DTSTART;VALUE=DATE:20260316
DTEND;VALUE=DATE:20260321
DTSTAMP:20260423T162602
CREATED:20251030T074657Z
LAST-MODIFIED:20251030T074740Z
UID:22173-1773619200-1774051199@www.eacmfs.org
SUMMARY:4th edition of the Facial Feminization Surgery (FFS) Training Program
DESCRIPTION:The 4th edition of the FFS Training Program offers a comprehensive\, hands-on educational experience for maxillofacial\, plastic\, and ENT surgeons seeking advanced skills in gender-affirming facial surgery. The program combines lectures\, live surgical observerships\, and a cadaver lab\, covering procedures of the forehead\, nose\, and lower jaw. Accredited by the European Accreditation Council for Continuing Medical Education (EACCME®) for 6.5 CME credits and equivalent to 30 WPATH Global Education Initiative (GEI) credit hours. \n🔗 More information: https://facialteam.eu/training-education/\n📩 Contact: trainingprogram@facialteam.eu
URL:https://www.eacmfs.org/event/4th-edition-of-the-facial-feminization-surgery-ffs-training-program/
LOCATION:HC Marbella International Hospital\, Ventura del Mar 11\, Marbella\, Málaga\, 29660\, Spain
CATEGORIES:Other Courses
END:VEVENT
BEGIN:VEVENT
DTSTART;VALUE=DATE:20260313
DTEND;VALUE=DATE:20260314
DTSTAMP:20260423T162602
CREATED:20260311T133814Z
LAST-MODIFIED:20260311T133904Z
UID:22545-1773360000-1773446399@www.eacmfs.org
SUMMARY:SORG: Second time better\, or second best?
DESCRIPTION:Course Chairman:  \n\n\n\nBaucke van Minnen \nWebsite: S.O.R.G. | Second time better\, or second best? \nContact: \nStrasbourg Osteosynthesis Research Group \nKLS Martin Platz 1\n78532 Tuttlingen\, Germany \nTelephone: +49 7461 706-216\nFax: +49 7461 706-350\nEmail: info@sorg-group.com
URL:https://www.eacmfs.org/event/s-o-r-g-second-time-better-or-second-best/
LOCATION:Forum Gronigen\, Nieuwe markt 1\, Groningen\, Netherlands
CATEGORIES:Other Courses
END:VEVENT
BEGIN:VEVENT
DTSTART;VALUE=DATE:20260223
DTEND;VALUE=DATE:20260226
DTSTAMP:20260423T162602
CREATED:20251030T085115Z
LAST-MODIFIED:20251030T085115Z
UID:22187-1771804800-1772063999@www.eacmfs.org
SUMMARY:AO CMF Lighthouse Course—Reconstructive Surgery in Head and Neck with Flap Harvesting (With Human Anatomical Specimens)
DESCRIPTION:This AO CMF Lighthouse Course shines a light on state-of-the-art techniques and best practices in head and neck reconstruction to optimize your ability to restore function and cosmesis in your patients. \nChairs: Susana Heredero Jung (Spain)\, Marius Bredell (Switzerland) \nContact: ariadna.guirao@aofoundation.org \n 
URL:https://www.eacmfs.org/event/ao-cmf-lighthouse-course-reconstructive-surgery-in-head-and-neck-with-flap-harvesting-with-human-anatomical-specimens-3/
LOCATION:Madrid\, Madrid\, Spain
CATEGORIES:Other Courses
END:VEVENT
BEGIN:VEVENT
DTSTART;VALUE=DATE:20260205
DTEND;VALUE=DATE:20260207
DTSTAMP:20260423T162602
CREATED:20251030T084649Z
LAST-MODIFIED:20251030T084649Z
UID:22183-1770249600-1770422399@www.eacmfs.org
SUMMARY:AO CMF Course—Orthognathic Management of Facial Deformities
DESCRIPTION:This 2-day course is delivered through a combination of lectures\, small group discussions\, and hands-on practical exercises and skills stations (including facial analysis and planning). \nChair: Patricia Stoor (Finland) \nContact: julio.zapata@aofoundation.org
URL:https://www.eacmfs.org/event/ao-cmf-course-orthognathic-management-of-facial-deformities-2/
LOCATION:Helsinki\, Finland
CATEGORIES:Other Courses
END:VEVENT
BEGIN:VEVENT
DTSTART;VALUE=DATE:20260129
DTEND;VALUE=DATE:20260131
DTSTAMP:20260423T162602
CREATED:20251030T084217Z
LAST-MODIFIED:20251030T084217Z
UID:22177-1769644800-1769817599@www.eacmfs.org
SUMMARY:AO CMF Lighthouse Course—TMJ Surgery (With Human Anatomical Specimens)
DESCRIPTION:Chairs: Mojca Knez (Slovenia)\, Alberto Rocha Pereira (Portugal) \nContact: ariadna.guirao@aofoundation.org
URL:https://www.eacmfs.org/event/ao-cmf-lighthouse-course-tmj-surgery-with-human-anatomical-specimens/
LOCATION:Carcavelos\, Lisbon\, Portugal
CATEGORIES:Other Courses
END:VEVENT
BEGIN:VEVENT
DTSTART;VALUE=DATE:20260126
DTEND;VALUE=DATE:20260128
DTSTAMP:20260423T162602
CREATED:20251204T143635Z
LAST-MODIFIED:20251204T143635Z
UID:22258-1769385600-1769558399@www.eacmfs.org
SUMMARY:Zurich Microsurgery Course 2
DESCRIPTION:Course Directors: Giuseppe Esposito\, Luca Regli \nProgram and Registration: https://www.usz.ch/en/event/zurich-microsurgery-course/
URL:https://www.eacmfs.org/event/zurich-microsurgery-course-2/
LOCATION:University Zurich Irchel\, Building Y23-Room F32\, Winterthurerstrasse 190\, Zurich\, CH-8057\, Switzerland
CATEGORIES:Other Courses
END:VEVENT
BEGIN:VEVENT
DTSTART;VALUE=DATE:20260123
DTEND;VALUE=DATE:20260125
DTSTAMP:20260423T162602
CREATED:20251117T081728Z
LAST-MODIFIED:20251222T201604Z
UID:22222-1769126400-1769299199@www.eacmfs.org
SUMMARY:HEAD&NECK Non Melanoma Skin Cancer Multidisciplinary Symposium - POSTPONED date to be confirmed
DESCRIPTION:Symposium Chairman:  Dr. Giuseppe Spinelli\, Chief Unit of Maxillo-Facial Surgery Careggi Hospital & University Firenze\, Italy. \nScientific Program and further information HERE \nContact: iscrizioni@areventi.com 
URL:https://www.eacmfs.org/event/headneck-non-melanoma-skin-cancer-multidisciplinary-symposium/
LOCATION:Hotel Albani Firenze Via Fiume\, 12\, 50123 Firenze\, Italy\, Firenze\, Italy
CATEGORIES:Other Courses
END:VEVENT
BEGIN:VEVENT
DTSTART;VALUE=DATE:20260122
DTEND;VALUE=DATE:20260124
DTSTAMP:20260423T162602
CREATED:20251204T143520Z
LAST-MODIFIED:20251204T143520Z
UID:22256-1769040000-1769212799@www.eacmfs.org
SUMMARY:Zurich Microsurgery Course 1
DESCRIPTION:Course Directors: Giuseppe Esposito\, Luca Regli \nProgram and Registration: https://www.usz.ch/en/event/zurich-microsurgery-course/
URL:https://www.eacmfs.org/event/zurich-microsurgery-course-1/
LOCATION:University Zurich Irchel\, Building Y23-Room F32\, Winterthurerstrasse 190\, Zurich\, CH-8057\, Switzerland
CATEGORIES:Other Courses
END:VEVENT
BEGIN:VEVENT
DTSTART;VALUE=DATE:20260119
DTEND;VALUE=DATE:20260122
DTSTAMP:20260423T162602
CREATED:20250821T143534Z
LAST-MODIFIED:20251219T103943Z
UID:21996-1768780800-1769039999@www.eacmfs.org
SUMMARY:AEEDC Dubai 2026
DESCRIPTION:Website: https://aeedc.com/ \nContact: Mustafa Furkhan (Registration) \nMob: +971 50 769 3251 \nEmail: registration@aeedc.ae \nGeneral enquiries: info@aeedc.com \n\n\n\n 
URL:https://www.eacmfs.org/event/aeedc-dubai-2026/
LOCATION:Dubai World Trade Centre\, Dubai\, United Arab Emirates
CATEGORIES:Other Courses
END:VEVENT
BEGIN:VEVENT
DTSTART;VALUE=DATE:20251215
DTEND;VALUE=DATE:20251217
DTSTAMP:20260423T162602
CREATED:20250116T122849Z
LAST-MODIFIED:20251030T141822Z
UID:21509-1765756800-1765929599@www.eacmfs.org
SUMMARY:Newcastle 9th Cadaveric Speech & Cleft Rhinoplasty Course
DESCRIPTION:Tel: +44 (0) 191 21 38589 \nEmail: nuth.nstc.enquiries@nhs.net \nCourse Flyer 2025 – 9th Cadaveric Course
URL:https://www.eacmfs.org/event/newcastle-9th-cadaveric-speech-cleft-rhinoplasty-course/
LOCATION:Newcastle Surgical Training Centre\, Freeman Hospital\, Newcastle\, NE7 7DN\, UK
CATEGORIES:Other Courses
END:VEVENT
BEGIN:VEVENT
DTSTART;VALUE=DATE:20251204
DTEND;VALUE=DATE:20251207
DTSTAMP:20260423T162602
CREATED:20250930T142619Z
LAST-MODIFIED:20250930T142644Z
UID:22084-1764806400-1765065599@www.eacmfs.org
SUMMARY:16th Congress of the European Skull Base Society
DESCRIPTION:16th Congress of the European Skull Base Society\, 4 – 6 December 2025 – About the congress \nCongress President:  Prof Dr Martin Jurlina \nLocal organisers:  Prof Dr Goran Mrak / Ass Prof Jakob Nemir
URL:https://www.eacmfs.org/event/16th-congress-of-the-european-skull-base-society/
LOCATION:National University of Zagreb\, Ulica Hrvatske bratske\, zajednice 4\, Zagreb\, 10 000\, Croatia (Local Name: Hrvatska)
CATEGORIES:Other Courses
END:VEVENT
BEGIN:VEVENT
DTSTART;TZID=UTC:20251120T173000
DTEND;TZID=UTC:20251120T183000
DTSTAMP:20260423T162602
CREATED:20250806T112445Z
LAST-MODIFIED:20250806T112445Z
UID:21971-1763659800-1763663400@www.eacmfs.org
SUMMARY:IBRA Webinar: How 3D Technologies Revolutionize Oral-and-Cranio-Maxillo-Facial Surgery
DESCRIPTION:Registration and information: How 3D Technologies Revolutionize Oral- and Cranio-Maxillo-Facial Surgery | IBRA – International Bone Research Association \nModerators: \nProf. Dr. Dr. Benedicta Beck-Broichsitter\, Stuttgart\, Germany\nProf. Dr. mult. Florian M. Thieringer\, Basel\, Switzerland \nAttendance is free of charge and the webinar will be hosted in English.
URL:https://www.eacmfs.org/event/ibra-webinar-how-3d-technologies-revolutionize-oral-and-cranio-maxillo-facial-surgery/
LOCATION:Virtual event
CATEGORIES:Other Courses
END:VEVENT
BEGIN:VEVENT
DTSTART;VALUE=DATE:20251116
DTEND;VALUE=DATE:20251118
DTSTAMP:20260423T162602
CREATED:20250319T101253Z
LAST-MODIFIED:20250319T101453Z
UID:21678-1763251200-1763423999@www.eacmfs.org
SUMMARY:AO CMF Course - Management of Facial Trauma
DESCRIPTION:Chairpersons: Richard M. Graham & Laith Al-Qamachi \nRegistration information: Flyer AO CMF MFT 2025_V1
URL:https://www.eacmfs.org/event/ao-cmf-course-management-of-facial-trauma-2/
LOCATION:Weetwood Hall Estate\, Otley Road\, Leeds\, LS16 5PS\, United Kingdom
CATEGORIES:Other Courses
END:VEVENT
BEGIN:VEVENT
DTSTART;VALUE=DATE:20251113
DTEND;VALUE=DATE:20251116
DTSTAMP:20260423T162602
CREATED:20241230T144321Z
LAST-MODIFIED:20241230T144321Z
UID:21446-1762992000-1763251199@www.eacmfs.org
SUMMARY:ANZAOMS Annual Scientific Meeting
DESCRIPTION:Website: https://www.anzaoms.org
URL:https://www.eacmfs.org/event/anzaoms-annual-scientific-meeting/
LOCATION:Adelaide Convention Centre\, North Terrace\, Adelaide\, South Australia\, 5000\, Australia
CATEGORIES:Other Courses
END:VEVENT
BEGIN:VEVENT
DTSTART;VALUE=DATE:20251102
DTEND;VALUE=DATE:20251106
DTSTAMP:20260423T162602
CREATED:20241230T143218Z
LAST-MODIFIED:20241230T143218Z
UID:21443-1762041600-1762387199@www.eacmfs.org
SUMMARY:24th International Congress - CIALACIBU
DESCRIPTION:Email: congresocialacibu@bcocongresos.com \nTel: +34 93 882 38 78 \nWebsite: https://congresocialacibu.com/
URL:https://www.eacmfs.org/event/24th-international-congress-cialacibu/
LOCATION:Barceló Bávaro Centro de Convenciones\, Playa Bávaro KM 1 no 1\, Punta Cana\, 23301\, Dominican Republic
CATEGORIES:Other Courses
END:VEVENT
BEGIN:VEVENT
DTSTART;VALUE=DATE:20251030
DTEND;VALUE=DATE:20251102
DTSTAMP:20260423T162602
CREATED:20250826T105840Z
LAST-MODIFIED:20250826T105840Z
UID:22012-1761782400-1762041599@www.eacmfs.org
SUMMARY:75th Congress of the German Society for Oral and Maxillofacial Surgery
DESCRIPTION:Congress President: Prof Dr Dr Henning Schliephake \nWebsite: 4th Joint Congress of Dental Societies | German Dentists’ Day – 30.10. – 01.11.2025 | Berlin
URL:https://www.eacmfs.org/event/75th-congress-of-the-german-society-for-oral-and-maxillofacial-surgery/
LOCATION:Estrel Berlin/ECC\, Sonnenallee 225\, Berlin\, 12057\, Germany
CATEGORIES:Association - GERMANY - DGMKG,Other Courses
END:VEVENT
BEGIN:VEVENT
DTSTART;VALUE=DATE:20251027
DTEND;VALUE=DATE:20251029
DTSTAMP:20260423T162602
CREATED:20250618T133314Z
LAST-MODIFIED:20250618T133314Z
UID:21878-1761523200-1761695999@www.eacmfs.org
SUMMARY:AO CMF Course - Orthognathic Management of Facial Deformities
DESCRIPTION:Course chairs: Stefano Fusetti (Italy) & Patricia Stoor (Finland) \nWebsite: AO CMF Course—Orthognathic Management of Facial Deformities \nContact: noemie.ringgenberg@aofoundation.org 
URL:https://www.eacmfs.org/event/ao-cmf-course-orthognathic-management-of-facial-deformities/
LOCATION:Charité – Berliner Simulations- & Trainingszentrum (BeST)\, Luisenstraße 65\, Berlin\, 10117\, Germany
CATEGORIES:Other Courses
END:VEVENT
BEGIN:VEVENT
DTSTART;VALUE=DATE:20251027
DTEND;VALUE=DATE:20251029
DTSTAMP:20260423T162602
CREATED:20250522T042031Z
LAST-MODIFIED:20250618T133551Z
UID:21840-1761523200-1761695999@www.eacmfs.org
SUMMARY:AO CMF Lighthouse Course—Orthognathic Surgery (With Human Anatomical Specimens)
DESCRIPTION:Course chairs: Max Heiland (Germany) & Thomas Kofod (Denmark) \nWebsite: AO CMF Lighthouse Course—Orthognathic Surgery (With Human Anatomical Specimens) \nContact: noemie.ringgenberg@aofoundation.org
URL:https://www.eacmfs.org/event/ao-cmf-lighthouse-course-orthognathic-surgery-with-human-anatomical-specimens-2/
LOCATION:Charité – Berliner Simulations- & Trainingszentrum (BeST)\, Luisenstraße 65\, Berlin\, 10117\, Germany
CATEGORIES:Other Courses
END:VEVENT
BEGIN:VEVENT
DTSTART;VALUE=DATE:20251016
DTEND;VALUE=DATE:20251018
DTSTAMP:20260423T162602
CREATED:20250618T132405Z
LAST-MODIFIED:20250618T132405Z
UID:21874-1760572800-1760745599@www.eacmfs.org
SUMMARY:AO CMF Course - Management of Facial Trauma
DESCRIPTION:Course chairs: Richard M. Graham (United Kingdom) & Laith Al-Qamachi (United Kingdom) \nWebsite: AO CMF Course—Management of Facial Trauma \nContact: lynn.lam@aofoundation.org 
URL:https://www.eacmfs.org/event/ao-cmf-course-management-of-facial-trauma-3/
LOCATION:Weetwood Hall Estate\, Otley Road\, Leeds\, LS16 5PS\, United Kingdom
CATEGORIES:Other Courses
END:VEVENT
BEGIN:VEVENT
DTSTART;VALUE=DATE:20251010
DTEND;VALUE=DATE:20251011
DTSTAMP:20260423T162602
CREATED:20250221T114700Z
LAST-MODIFIED:20250221T114700Z
UID:21636-1760054400-1760140799@www.eacmfs.org
SUMMARY:SORG Comprehensive Course Day 6 - Orthognathic Surgery
DESCRIPTION:
URL:https://www.eacmfs.org/event/sorg-comprehensive-course-day-6-orthognathic-surgery/
LOCATION:Tuttlingen\, Tuttlingen\, Germany
CATEGORIES:Other Courses
END:VEVENT
BEGIN:VEVENT
DTSTART;VALUE=DATE:20251009
DTEND;VALUE=DATE:20251010
DTSTAMP:20260423T162602
CREATED:20250221T114619Z
LAST-MODIFIED:20250221T114619Z
UID:21634-1759968000-1760054399@www.eacmfs.org
SUMMARY:SORG Comprehensive Course Day 5 - Craniofacial/Cleft
DESCRIPTION:
URL:https://www.eacmfs.org/event/sorg-comprehensive-course-day-5-craniofacial-cleft/
LOCATION:Tuttlingen\, Tuttlingen\, Germany
CATEGORIES:Other Courses
END:VEVENT
BEGIN:VEVENT
DTSTART;VALUE=DATE:20251008
DTEND;VALUE=DATE:20251009
DTSTAMP:20260423T162602
CREATED:20250221T114535Z
LAST-MODIFIED:20250221T114535Z
UID:21632-1759881600-1759967999@www.eacmfs.org
SUMMARY:SORG Comprehensive Course Day 4- Reconstruction
DESCRIPTION:
URL:https://www.eacmfs.org/event/sorg-comprehensive-course-day-4-reconstruction/
LOCATION:Tuttlingen\, Tuttlingen\, Germany
CATEGORIES:Other Courses
END:VEVENT
BEGIN:VEVENT
DTSTART;VALUE=DATE:20251007
DTEND;VALUE=DATE:20251008
DTSTAMP:20260423T162602
CREATED:20250221T114332Z
LAST-MODIFIED:20250221T114332Z
UID:21629-1759795200-1759881599@www.eacmfs.org
SUMMARY:SORG Comprehensive Course Day 3- Preprosthetic Surgery
DESCRIPTION:
URL:https://www.eacmfs.org/event/sorg-comprehensive-course-day-3-preprosthetic-surgery/
LOCATION:Tuttlingen\, Tuttlingen\, Germany
CATEGORIES:Other Courses
END:VEVENT
END:VCALENDAR