
BEGIN:VCALENDAR
VERSION:2.0
PRODID:-//EACMFS - ECPv6.15.20//NONSGML v1.0//EN
CALSCALE:GREGORIAN
METHOD:PUBLISH
X-ORIGINAL-URL:https://www.eacmfs.org
X-WR-CALDESC:Events for EACMFS
REFRESH-INTERVAL;VALUE=DURATION:PT1H
X-Robots-Tag:noindex
X-PUBLISHED-TTL:PT1H
BEGIN:VTIMEZONE
TZID:UTC
BEGIN:STANDARD
TZOFFSETFROM:+0000
TZOFFSETTO:+0000
TZNAME:UTC
DTSTART:20210101T000000
END:STANDARD
END:VTIMEZONE
BEGIN:VEVENT
DTSTART;TZID=UTC:20230421T080000
DTEND;TZID=UTC:20230422T170000
DTSTAMP:20260424T152007
CREATED:20221011T135741Z
LAST-MODIFIED:20221011T135832Z
UID:18388-1682064000-1682182800@www.eacmfs.org
SUMMARY:28th Congress SCBCMO
DESCRIPTION:President – Josep Rubio Palau \nXXVIII CONGRES MAXILOFACIAL
URL:https://www.eacmfs.org/event/28th-congress-scbcmo/
LOCATION:Sant Joan de Deu\, Barcelona Children’s Hospital\, Barcelona\, Spain
CATEGORIES:Other Courses
END:VEVENT
BEGIN:VEVENT
DTSTART;TZID=UTC:20230416T080000
DTEND;TZID=UTC:20230421T170000
DTSTAMP:20260424T152007
CREATED:20230302T085828Z
LAST-MODIFIED:20230411T111531Z
UID:19554-1681632000-1682096400@www.eacmfs.org
SUMMARY:SORG Comprehensive Course - Updates and Controversies in Advanced Oral and Maxillofacial Surgery
DESCRIPTION:https://www.sorg-group.com/en/courses/comprehensive-course-2023-tuttlingen-4328439106/ \nScientific Chairman – Prof P Kessler
URL:https://www.eacmfs.org/event/sorg-comprehensive-course/
LOCATION:KLS Martin WORLD\, Teaching & Education Centre\, Tuittlingen\, 78532\, Germany
CATEGORIES:Other Courses
END:VEVENT
BEGIN:VEVENT
DTSTART;TZID=UTC:20230322T080000
DTEND;TZID=UTC:20230323T170000
DTSTAMP:20260424T152007
CREATED:20230213T165104Z
LAST-MODIFIED:20230213T165104Z
UID:19515-1679472000-1679590800@www.eacmfs.org
SUMMARY:Facial Nerve Reconstruction
DESCRIPTION:Post Graduate University Course in Facial Reanimation on Cadaver – Advanced Course \nhttp://www.unisubria.it \nCorso facciale .pptx
URL:https://www.eacmfs.org/event/facial-nerve-reconstruction/
LOCATION:Ospedale di Circolo e Fondazione Macchi\, 21100 Varese\, Italy\, Via Guicciardini 9\, 21100\, Italy
CATEGORIES:Other Courses
END:VEVENT
BEGIN:VEVENT
DTSTART;TZID=UTC:20230316T080000
DTEND;TZID=UTC:20230318T170000
DTSTAMP:20260424T152007
CREATED:20230120T140537Z
LAST-MODIFIED:20230120T140537Z
UID:19467-1678953600-1679158800@www.eacmfs.org
SUMMARY:AO CMF Advanced Course - Craniofacial surgery focusing on distraction osteogeneis
DESCRIPTION:Chairpersons:  Alberto Rocha-Pereira\, Marta Redondo Alamillos \nEvent organization \nBeba Poletti \nTardisstrasse 199\, 7205 Zizers\, Switzerland \nEmail: beba.poletti@aofoundation.org \nPhone: +41 79 559 36 41 \nCraniofacial + distraction – Lisbon 2023
URL:https://www.eacmfs.org/event/ao-cmf-advanced-course-craniofacial-surgery-focusing-on-distraction-osteogeneis/
LOCATION:Lisbon\, Portugal\, Portugal
CATEGORIES:Other Courses
END:VEVENT
BEGIN:VEVENT
DTSTART;VALUE=DATE:20221208
DTEND;VALUE=DATE:20221209
DTSTAMP:20260424T152007
CREATED:20220826T132657Z
LAST-MODIFIED:20220826T132830Z
UID:18313-1670457600-1670543999@www.eacmfs.org
SUMMARY:Day Case Oral & Maxillofacial Surgery - Virtual Conference
DESCRIPTION:BADS OMFS Dec 2022 \nhttp://emails.healthcareconferencesuk.co.uk/rsps/m/h3dUcrSIm8pX58IYZIBxyYQ8B9LyjpyUn37oDVsl4SY
URL:https://www.eacmfs.org/event/day-case-oral-maxillofacial-surgery-virtual-conference/
CATEGORIES:Other Courses
END:VEVENT
BEGIN:VEVENT
DTSTART;VALUE=DATE:20221206
DTEND;VALUE=DATE:20221211
DTSTAMP:20260424T152007
CREATED:20220104T144136Z
LAST-MODIFIED:20220104T150017Z
UID:17824-1670284800-1670716799@www.eacmfs.org
SUMMARY:ICMFS
DESCRIPTION:http://www.icmfs2022.com \nCongress President – Prof S M Balaji
URL:https://www.eacmfs.org/event/icmfs/
LOCATION:Savoy Hotel\, Mache\, Seychelles
CATEGORIES:Other Courses
END:VEVENT
BEGIN:VEVENT
DTSTART;VALUE=DATE:20221127
DTEND;VALUE=DATE:20221201
DTSTAMP:20260424T152007
CREATED:20211207T123144Z
LAST-MODIFIED:20211207T123408Z
UID:17750-1669507200-1669852799@www.eacmfs.org
SUMMARY:XII International Congress of the Latin American Association of Oral & Maxillofacial Surgery & Traumatology
DESCRIPTION:https://cialacibu2022.com/en/information/
URL:https://www.eacmfs.org/event/xii-international-congress-of-the-latin-american-association-of-oral-maxillofacial-surgery-traumatology/
LOCATION:Las Americas Hotel Convention Centre\, Anillo Vial\, Sector Cielo Mar\, Torre 2\, 130002\, Bolivar\, Province of Cartagena\,  \, Colombia
CATEGORIES:Other Courses
END:VEVENT
BEGIN:VEVENT
DTSTART;VALUE=DATE:20221117
DTEND;VALUE=DATE:20221120
DTSTAMP:20260424T152007
CREATED:20211213T164937Z
LAST-MODIFIED:20220718T102757Z
UID:17771-1668643200-1668902399@www.eacmfs.org
SUMMARY:Association of Oral & Maxillofacial Surgeons of India - AOMSI 46th National Conference
DESCRIPTION:http://46indore.aomsi.com/ \nOrganising Chairman:  Dr Rajesh B Dhirawani
URL:https://www.eacmfs.org/event/aomsi/
LOCATION:Unnamed Venue\, Indore\, India
CATEGORIES:Other Courses
END:VEVENT
BEGIN:VEVENT
DTSTART;TZID=UTC:20221109T080000
DTEND;TZID=UTC:20221110T170000
DTSTAMP:20260424T152007
CREATED:20220923T164559Z
LAST-MODIFIED:20220923T164812Z
UID:18359-1667980800-1668099600@www.eacmfs.org
SUMMARY:12th BSCOSO Autumn Course: Orthodontics and orthognathic surgery in TMJ-compromised patients
DESCRIPTION:https://www.bscoso.com/bscoso/bscoso-autumn-course/preliminary-program/ \nIndre Virbickiene – BSCOSO Autumn Course Secretariat \n+370 68248182    learn@bscoso.com          www.bscoso.com
URL:https://www.eacmfs.org/event/12th-bscoso-autumn-course-orthodontics-and-orthognathic-surgery-in-tmj-compromised-patients/
LOCATION:Hilton Garden Inn\, Gedimino av 44B\, Vilnius City Centre\, 01110\, Lithuania
CATEGORIES:Other Courses
ORGANIZER;CN="Mrs Indre Virbickiene":MAILTO:learn@bscoso.com
END:VEVENT
BEGIN:VEVENT
DTSTART;VALUE=DATE:20221104
DTEND;VALUE=DATE:20221106
DTSTAMP:20260424T152007
CREATED:20220824T160738Z
LAST-MODIFIED:20220825T072313Z
UID:18306-1667520000-1667692799@www.eacmfs.org
SUMMARY:FACE / Orthognathic Surgery - Hands on
DESCRIPTION:http://www.ahed.pt \nCourse co-ordinator – A Matos da Foncesca \n22-m26_face-orthognathic-surgery-hands-on (002)
URL:https://www.eacmfs.org/event/face-orthognathic-surgery-hands-on/
LOCATION:Nova Medical School (Campo Santana)\, Portugal
CATEGORIES:Other Courses
END:VEVENT
BEGIN:VEVENT
DTSTART;VALUE=DATE:20221027
DTEND;VALUE=DATE:20221030
DTSTAMP:20260424T152007
CREATED:20220812T154708Z
LAST-MODIFIED:20220812T155008Z
UID:18297-1666828800-1667087999@www.eacmfs.org
SUMMARY:15. Congress of the Association of Maxilofacial Surgeons of Serbia
DESCRIPTION:http://www.umfhs.rs/xv-kongres-maksilofacijalnih-hirurga-srbije-sa-medunarodnim-ucescem/ \nLocation: Vrdnik\, Serbia \nContact: \nAdresa: ulica Pasterova br. 2\,\n11000 Beograd\, Srbija \nTelefon: +381 11 2643 694 \nEmail: krstichi@gmail.com
URL:https://www.eacmfs.org/event/15-congress-of-the-association-of-maxilofacial-surgeons-of-serbia/
CATEGORIES:Other Courses
END:VEVENT
BEGIN:VEVENT
DTSTART;VALUE=DATE:20221027
DTEND;VALUE=DATE:20221030
DTSTAMP:20260424T152007
CREATED:20220726T123912Z
LAST-MODIFIED:20220726T124209Z
UID:18278-1666828800-1667087999@www.eacmfs.org
SUMMARY:SORG Course - Cleft and Face Maastricht 2022
DESCRIPTION:https://www.sorg-group.com/en/courses/cleft-and-face-maastricht-2022/
URL:https://www.eacmfs.org/event/sorg-course-cleft-lip-and-palate-planned/
LOCATION:University Hospital MUMC\, P. Debyelaan 25\, Maastricht\, 6229 HX\, Netherlands
CATEGORIES:Other Courses
ORGANIZER;CN="Martin Gienger":MAILTO:Martin.Gienger@klsmartin.com
END:VEVENT
BEGIN:VEVENT
DTSTART;VALUE=DATE:20221012
DTEND;VALUE=DATE:20221016
DTSTAMP:20260424T152007
CREATED:20211208T142220Z
LAST-MODIFIED:20211208T142332Z
UID:17752-1665532800-1665878399@www.eacmfs.org
SUMMARY:57ème Congrès de la Société Française de Stomatologie\,  Chirurgie Maxillo-Faciale et Chirurgie Orale
DESCRIPTION:http://aoscongres.com/cmf2022 \nPresident – Prof P Y Blanchard
URL:https://www.eacmfs.org/event/57eme-congres-de-la-societe-francaise-de-stomatologie-chirurgie-maxillo-faciale-et-chirurgie-orale/
LOCATION:Centre des Congres de Reims\, Reims\, France
CATEGORIES:Other Courses
END:VEVENT
BEGIN:VEVENT
DTSTART;VALUE=DATE:20220926
DTEND;VALUE=DATE:20220927
DTSTAMP:20260424T152007
CREATED:20220726T123234Z
LAST-MODIFIED:20220726T123438Z
UID:18271-1664150400-1664236799@www.eacmfs.org
SUMMARY:SORG - Pre-Congress Event Madrid - Current concepts and controversies in paediatric OMF surgery
DESCRIPTION:
URL:https://www.eacmfs.org/event/sorg-pre-congress-event-madrid-current-concepts-and-controversies-in-paediatric-omf-surgery/
LOCATION:IFEMA Palacio Municipal\, Av Capital de Espana 7\, Madrid\, Madrid\, 28042\, Spain
CATEGORIES:Other Courses
ORGANIZER;CN="Martin Gienger":MAILTO:Martin.Gienger@klsmartin.com
END:VEVENT
BEGIN:VEVENT
DTSTART;VALUE=DATE:20220923
DTEND;VALUE=DATE:20220925
DTSTAMP:20260424T152007
CREATED:20220525T151141Z
LAST-MODIFIED:20220525T151141Z
UID:18208-1663891200-1664063999@www.eacmfs.org
SUMMARY:European Society of Craniofacial Surgery
DESCRIPTION:https://escfs2022.com/
URL:https://www.eacmfs.org/event/european-society-of-craniofacial-surgery/
LOCATION:Mathematical Institute\, University of Oxford\, Oxford\, UK
CATEGORIES:Other Courses
ORGANIZER;CN="Danielle Maher":MAILTO:danielle.maher@agenda-comm.ie
END:VEVENT
BEGIN:VEVENT
DTSTART;VALUE=DATE:20220922
DTEND;VALUE=DATE:20220925
DTSTAMP:20260424T152007
CREATED:20220715T122415Z
LAST-MODIFIED:20220715T122415Z
UID:18246-1663804800-1664063999@www.eacmfs.org
SUMMARY:SORG Course - Resection on Skull Base Tumour - Human Cadaver Dissection Course
DESCRIPTION:https://www.sorg-group.com/en/courses/neck-dissection-and-access-surgery-for-maxillofacial-tumors/
URL:https://www.eacmfs.org/event/sorg-course-resection-on-skull-base-tumour-human-cadaver-dissection-course/
LOCATION:Erlangen\, Germany
CATEGORIES:Other Courses
ORGANIZER;CN="Martin Gienger":MAILTO:Martin.Gienger@klsmartin.com
END:VEVENT
BEGIN:VEVENT
DTSTART;VALUE=DATE:20220912
DTEND;VALUE=DATE:20220918
DTSTAMP:20260424T152007
CREATED:20210913T145659Z
LAST-MODIFIED:20220203T145354Z
UID:17494-1662940800-1663459199@www.eacmfs.org
SUMMARY:AAOMS
DESCRIPTION:https://www.aaoms.org/meetings-exhibitions/annual-meeting/104th-annual-meeting
URL:https://www.eacmfs.org/event/aaoms/
LOCATION:Unnamed Venue\, NEW ORLEANS\, LA\, United States
CATEGORIES:Other Courses
END:VEVENT
BEGIN:VEVENT
DTSTART;VALUE=DATE:20220831
DTEND;VALUE=DATE:20220904
DTSTAMP:20260424T152007
CREATED:20211025T125427Z
LAST-MODIFIED:20220405T131154Z
UID:17675-1661904000-1662249599@www.eacmfs.org
SUMMARY:10th SORG Free Flap Course
DESCRIPTION:Cadaver-Workshop \nRegistration:  Free Flap Course – Register (aanmelder.nl)
URL:https://www.eacmfs.org/event/10th-sorg-free-flap-course/
LOCATION:University Medical Center Groningen\, Hanzeplein 1\, Groningen\, NL-9713\, Netherlands
CATEGORIES:Other Courses
ORGANIZER;CN="Martin Gienger":MAILTO:Martin.Gienger@klsmartin.com
END:VEVENT
BEGIN:VEVENT
DTSTART;VALUE=DATE:20220826
DTEND;VALUE=DATE:20220828
DTSTAMP:20260424T152007
CREATED:20220715T121852Z
LAST-MODIFIED:20220715T121852Z
UID:18244-1661472000-1661644799@www.eacmfs.org
SUMMARY:SORG Course - Cleft-Lip & Palate - Human Cadaver Dissection
DESCRIPTION:https://www.sorg-group.com/en/courses/comprehensive-learning-with-experts-for-training
URL:https://www.eacmfs.org/event/sorg-course-cleft-lip-palate-human-cadaver-dissection/
LOCATION:Institute of Anatomy\, Leipzig
CATEGORIES:Other Courses
ORGANIZER;CN="Martin Gienger":MAILTO:Martin.Gienger@klsmartin.com
END:VEVENT
BEGIN:VEVENT
DTSTART;VALUE=DATE:20220720
DTEND;VALUE=DATE:20220723
DTSTAMP:20260424T152007
CREATED:20220504T162517Z
LAST-MODIFIED:20220504T162756Z
UID:18179-1658275200-1658534399@www.eacmfs.org
SUMMARY:Head and Neck Cadaveric Dissection Course
DESCRIPTION:EG Cadader course Flyer July 22
URL:https://www.eacmfs.org/event/head-and-neck-cadaveric-dissection-course/
LOCATION:Queen Victoria Hospital East Grinstead & Brighton & Sussex Medical School\, University of Brighton\, United Kingdom
CATEGORIES:Other Courses
END:VEVENT
BEGIN:VEVENT
DTSTART;VALUE=DATE:20220629
DTEND;VALUE=DATE:20220703
DTSTAMP:20260424T152007
CREATED:20220530T100309Z
LAST-MODIFIED:20220530T100331Z
UID:18216-1656460800-1656806399@www.eacmfs.org
SUMMARY:72nd Congress - German Society for Oral & Maxillofacial Surgery
DESCRIPTION:https://www.dgmkg-kongress.de/
URL:https://www.eacmfs.org/event/72nd-congress-german-society-for-oral-maxillofacial-surgery/
LOCATION:International Congress Center Dresden\, Ostra-Ufer 2\, Dresden\, Germany
CATEGORIES:Other Courses
ORGANIZER;CN="Boeld Communication GmbH":MAILTO:congress@bb-mc.com
END:VEVENT
BEGIN:VEVENT
DTSTART;VALUE=DATE:20220622
DTEND;VALUE=DATE:20220625
DTSTAMP:20260424T152007
CREATED:20211018T131342Z
LAST-MODIFIED:20211018T131430Z
UID:17550-1655856000-1656115199@www.eacmfs.org
SUMMARY:BAOMS - Annual Scientific Meeting
DESCRIPTION:Facing the Future
URL:https://www.eacmfs.org/event/baoms-annual-scientific-meeting/
LOCATION:South Bank Centre\, London\, UK
CATEGORIES:Other Courses
ORGANIZER;CN="BAOMS":MAILTO:office@baoms.org.uk
END:VEVENT
BEGIN:VEVENT
DTSTART;TZID=UTC:20220620T080000
DTEND;TZID=UTC:20220622T170000
DTSTAMP:20260424T152007
CREATED:20220504T164327Z
LAST-MODIFIED:20220504T164626Z
UID:18187-1655712000-1655917200@www.eacmfs.org
SUMMARY:SORG and KLS Martin Courses - BAOMS meeting - South Bank Centre London
DESCRIPTION:1) A Hands-On Cadaver course on orbital trauma: ICRO (Innovative Concepts in reconstructive orbital surgery) \nhttps://www.klsmartin.com/icro-masterclass-baoms-2022 \n2) A Hands-On Cadaver course on anatomy and surgical accesses to the TMJ \nhttps://www.sorg-group.com/en/courses/accesses-to-the-tmj-sorg-basic-principles-in-maxillofacial-trauma-course/ \n3) A Hands-On Cadaver course on reconstructive Free Flap surgery \nhttps://www.sorg-group.com/en/courses/sorg-free-flap-hands-on-cadaver-course-baoms-london/ \n4) A hands on computer course on 3D Virtual computer planning towards a minimally-invasive approach in Orthognathic surgery \nhttps://www.klsmartin.com/3d-virtual-planning-in-orthognathic-surgery-towards-a-minimally-invasive-approach
URL:https://www.eacmfs.org/event/sorg-and-kls-martin-courses-baoms-meeting-london/
CATEGORIES:Other Courses
END:VEVENT
BEGIN:VEVENT
DTSTART;VALUE=DATE:20220603
DTEND;VALUE=DATE:20220604
DTSTAMP:20260424T152007
CREATED:20220422T142718Z
LAST-MODIFIED:20220422T142811Z
UID:18163-1654214400-1654300799@www.eacmfs.org
SUMMARY:CADSKILLS Workshop
DESCRIPTION:http://www.cadskills.eu \n 
URL:https://www.eacmfs.org/event/cadskills-workshop/
LOCATION:Ghent\, Poortakkerstraat 41H\, Ghent\, Belgium
CATEGORIES:Other Courses
ORGANIZER;CN="Alexander Lippens":MAILTO:alexanderlippens@cadskills.eu
END:VEVENT
BEGIN:VEVENT
DTSTART;VALUE=DATE:20220602
DTEND;VALUE=DATE:20220606
DTSTAMP:20260424T152007
CREATED:20211025T132237Z
LAST-MODIFIED:20211025T132317Z
UID:17680-1654128000-1654473599@www.eacmfs.org
SUMMARY:iFace - Integrated Facial Aesthetic Surgery Congress & Exhibition
DESCRIPTION:The Essence of Facial Beauty \nhttp://www.i-facecongress.com \nDr Tirbod Fattahi – iFace Chair \nDr S Omid Keyhan – Scientific Chairman \nDr Hamid Reza Fallahi – Executive Chairman \ncourses Poster \ni-Face Catalogi-Face Catalog
URL:https://www.eacmfs.org/event/iface-integrated-facial-aesthetic-surgery-congress-exhibition/
LOCATION:Hilton Istanbul Bomonti Hotel\, Istanbul\, Turkey
CATEGORIES:Other Courses
END:VEVENT
BEGIN:VEVENT
DTSTART;TZID=UTC:20220525T080000
DTEND;TZID=UTC:20220528T170000
DTSTAMP:20260424T152007
CREATED:20220203T150700Z
LAST-MODIFIED:20220309T093404Z
UID:17988-1653465600-1653757200@www.eacmfs.org
SUMMARY:15th Asian Congress on Oral and Maxillofacial Surgery (ACOMS) Seoul\, South Korea
DESCRIPTION:
URL:https://www.eacmfs.org/event/15th-asian-congress-on-oral-and-maxillofacial-surgery-acoms-seoul-south-korea/
CATEGORIES:Other Courses
ORGANIZER;CN="Hee-Kyun Oh":MAILTO:hkoh@jnu.ac.kr
END:VEVENT
BEGIN:VEVENT
DTSTART;VALUE=DATE:20220519
DTEND;VALUE=DATE:20220522
DTSTAMP:20260424T152007
CREATED:20211025T130919Z
LAST-MODIFIED:20211025T131242Z
UID:17677-1652918400-1653177599@www.eacmfs.org
SUMMARY:10th Congress de l'association francaise des chirurgiens de la face
DESCRIPTION:https://2022.afcface.fr/
URL:https://www.eacmfs.org/event/10th-congress-de-lassociation-francaise-des-chirurgiens-de-la-face/
LOCATION:Unnamed Venue\, Au Mont Saint Michel\, France
CATEGORIES:Other Courses
ORGANIZER;CN="Unnamed Organizer":MAILTO:contact@afcface.fr
END:VEVENT
BEGIN:VEVENT
DTSTART;VALUE=DATE:20220518
DTEND;VALUE=DATE:20220521
DTSTAMP:20260424T152007
CREATED:20211028T143804Z
LAST-MODIFIED:20211028T143804Z
UID:17686-1652832000-1653091199@www.eacmfs.org
SUMMARY:Orthognathic Surgery
DESCRIPTION:Hands-0n course for Oral & Maxillofacial Surgeons and Orthodontists
URL:https://www.eacmfs.org/event/orthognathic-surgery-10/
LOCATION:Dept of OMFS Aarhus University Hopsital\, Entrance J\, J206\, Palle Juul-Jensens Blvd 165\, Aarhus\, DK 8200\, Denmark
CATEGORIES:Other Courses
ORGANIZER;CN="Charlotte Wilsky":MAILTO:chapur@rm.dk
END:VEVENT
BEGIN:VEVENT
DTSTART;VALUE=DATE:20220506
DTEND;VALUE=DATE:20220508
DTSTAMP:20260424T152007
CREATED:20220407T140448Z
LAST-MODIFIED:20220407T142036Z
UID:18126-1651795200-1651967999@www.eacmfs.org
SUMMARY:Orthognathic Surgery - Indications\, choice of technique and outcome
DESCRIPTION:2022 SYMPOSIUM PROGRAM lectori (1) \n \n \nContact: elisabeta.vasca@yahoo.com
URL:https://www.eacmfs.org/event/orthognathic-surgery-indications-choice-of-technique-and-outcome/
LOCATION:Hotel Continental Forum\, Arad\, Romania\, Romania
CATEGORIES:Other Courses
ORGANIZER;CN="Lect. Dr E Vasca":MAILTO:elisabeta.vasca@yahoo.com
END:VEVENT
BEGIN:VEVENT
DTSTART;TZID=UTC:20220503T130000
DTEND;TZID=UTC:20220503T190000
DTSTAMP:20260424T152007
CREATED:20220422T082841Z
LAST-MODIFIED:20220422T083003Z
UID:18153-1651582800-1651604400@www.eacmfs.org
SUMMARY:SORG Coprorate Forum on New Procedures in Non-Augmentative Preprosthetic Rehabilitation (40th SFOMK)
DESCRIPTION:2022 02 22 OS Pre-Course_Program_Planning V3 \nOrganising committee\nKetil Moen\, Congress Chair\nBård Alvsaker\, Congress Co-chair\nMikael Magnusson\, Congress Co-chair\nBodil Lund\, President SFOMK \nCongress secretariat\nResia Kongress\nE-mail: congress@resia.se\nPhone: +46 (0)18 18 35 35
URL:https://www.eacmfs.org/event/sorg-coprorate-forum-on-new-procedures-in-non-augmentative-preprosthetic-rehabilitation-40th-sfomk/
CATEGORIES:Other Courses
END:VEVENT
END:VCALENDAR