
BEGIN:VCALENDAR
VERSION:2.0
PRODID:-//EACMFS - ECPv6.15.20//NONSGML v1.0//EN
CALSCALE:GREGORIAN
METHOD:PUBLISH
X-WR-CALNAME:EACMFS
X-ORIGINAL-URL:https://www.eacmfs.org
X-WR-CALDESC:Events for EACMFS
REFRESH-INTERVAL;VALUE=DURATION:PT1H
X-Robots-Tag:noindex
X-PUBLISHED-TTL:PT1H
BEGIN:VTIMEZONE
TZID:UTC
BEGIN:STANDARD
TZOFFSETFROM:+0000
TZOFFSETTO:+0000
TZNAME:UTC
DTSTART:20190101T000000
END:STANDARD
END:VTIMEZONE
BEGIN:VEVENT
DTSTART;VALUE=DATE:20220629
DTEND;VALUE=DATE:20220703
DTSTAMP:20260424T185237
CREATED:20220530T100309Z
LAST-MODIFIED:20220530T100331Z
UID:18216-1656460800-1656806399@www.eacmfs.org
SUMMARY:72nd Congress - German Society for Oral & Maxillofacial Surgery
DESCRIPTION:https://www.dgmkg-kongress.de/
URL:https://www.eacmfs.org/event/72nd-congress-german-society-for-oral-maxillofacial-surgery/
LOCATION:International Congress Center Dresden\, Ostra-Ufer 2\, Dresden\, Germany
CATEGORIES:Other Courses
ORGANIZER;CN="Boeld Communication GmbH":MAILTO:congress@bb-mc.com
END:VEVENT
BEGIN:VEVENT
DTSTART;VALUE=DATE:20220622
DTEND;VALUE=DATE:20220625
DTSTAMP:20260424T185237
CREATED:20211018T131342Z
LAST-MODIFIED:20211018T131430Z
UID:17550-1655856000-1656115199@www.eacmfs.org
SUMMARY:BAOMS - Annual Scientific Meeting
DESCRIPTION:Facing the Future
URL:https://www.eacmfs.org/event/baoms-annual-scientific-meeting/
LOCATION:South Bank Centre\, London\, UK
CATEGORIES:Other Courses
ORGANIZER;CN="BAOMS":MAILTO:office@baoms.org.uk
END:VEVENT
BEGIN:VEVENT
DTSTART;TZID=UTC:20220620T080000
DTEND;TZID=UTC:20220622T170000
DTSTAMP:20260424T185237
CREATED:20220504T164327Z
LAST-MODIFIED:20220504T164626Z
UID:18187-1655712000-1655917200@www.eacmfs.org
SUMMARY:SORG and KLS Martin Courses - BAOMS meeting - South Bank Centre London
DESCRIPTION:1) A Hands-On Cadaver course on orbital trauma: ICRO (Innovative Concepts in reconstructive orbital surgery) \nhttps://www.klsmartin.com/icro-masterclass-baoms-2022 \n2) A Hands-On Cadaver course on anatomy and surgical accesses to the TMJ \nhttps://www.sorg-group.com/en/courses/accesses-to-the-tmj-sorg-basic-principles-in-maxillofacial-trauma-course/ \n3) A Hands-On Cadaver course on reconstructive Free Flap surgery \nhttps://www.sorg-group.com/en/courses/sorg-free-flap-hands-on-cadaver-course-baoms-london/ \n4) A hands on computer course on 3D Virtual computer planning towards a minimally-invasive approach in Orthognathic surgery \nhttps://www.klsmartin.com/3d-virtual-planning-in-orthognathic-surgery-towards-a-minimally-invasive-approach
URL:https://www.eacmfs.org/event/sorg-and-kls-martin-courses-baoms-meeting-london/
CATEGORIES:Other Courses
END:VEVENT
BEGIN:VEVENT
DTSTART;VALUE=DATE:20220603
DTEND;VALUE=DATE:20220604
DTSTAMP:20260424T185237
CREATED:20220422T142718Z
LAST-MODIFIED:20220422T142811Z
UID:18163-1654214400-1654300799@www.eacmfs.org
SUMMARY:CADSKILLS Workshop
DESCRIPTION:http://www.cadskills.eu \n 
URL:https://www.eacmfs.org/event/cadskills-workshop/
LOCATION:Ghent\, Poortakkerstraat 41H\, Ghent\, Belgium
CATEGORIES:Other Courses
ORGANIZER;CN="Alexander Lippens":MAILTO:alexanderlippens@cadskills.eu
END:VEVENT
BEGIN:VEVENT
DTSTART;VALUE=DATE:20220602
DTEND;VALUE=DATE:20220606
DTSTAMP:20260424T185237
CREATED:20211025T132237Z
LAST-MODIFIED:20211025T132317Z
UID:17680-1654128000-1654473599@www.eacmfs.org
SUMMARY:iFace - Integrated Facial Aesthetic Surgery Congress & Exhibition
DESCRIPTION:The Essence of Facial Beauty \nhttp://www.i-facecongress.com \nDr Tirbod Fattahi – iFace Chair \nDr S Omid Keyhan – Scientific Chairman \nDr Hamid Reza Fallahi – Executive Chairman \ncourses Poster \ni-Face Catalogi-Face Catalog
URL:https://www.eacmfs.org/event/iface-integrated-facial-aesthetic-surgery-congress-exhibition/
LOCATION:Hilton Istanbul Bomonti Hotel\, Istanbul\, Turkey
CATEGORIES:Other Courses
END:VEVENT
BEGIN:VEVENT
DTSTART;TZID=UTC:20220525T080000
DTEND;TZID=UTC:20220528T170000
DTSTAMP:20260424T185237
CREATED:20220203T150700Z
LAST-MODIFIED:20220309T093404Z
UID:17988-1653465600-1653757200@www.eacmfs.org
SUMMARY:15th Asian Congress on Oral and Maxillofacial Surgery (ACOMS) Seoul\, South Korea
DESCRIPTION:
URL:https://www.eacmfs.org/event/15th-asian-congress-on-oral-and-maxillofacial-surgery-acoms-seoul-south-korea/
CATEGORIES:Other Courses
ORGANIZER;CN="Hee-Kyun Oh":MAILTO:hkoh@jnu.ac.kr
END:VEVENT
BEGIN:VEVENT
DTSTART;VALUE=DATE:20220519
DTEND;VALUE=DATE:20220522
DTSTAMP:20260424T185237
CREATED:20211025T130919Z
LAST-MODIFIED:20211025T131242Z
UID:17677-1652918400-1653177599@www.eacmfs.org
SUMMARY:10th Congress de l'association francaise des chirurgiens de la face
DESCRIPTION:https://2022.afcface.fr/
URL:https://www.eacmfs.org/event/10th-congress-de-lassociation-francaise-des-chirurgiens-de-la-face/
LOCATION:Unnamed Venue\, Au Mont Saint Michel\, France
CATEGORIES:Other Courses
ORGANIZER;CN="Unnamed Organizer":MAILTO:contact@afcface.fr
END:VEVENT
BEGIN:VEVENT
DTSTART;VALUE=DATE:20220518
DTEND;VALUE=DATE:20220521
DTSTAMP:20260424T185237
CREATED:20211028T143804Z
LAST-MODIFIED:20211028T143804Z
UID:17686-1652832000-1653091199@www.eacmfs.org
SUMMARY:Orthognathic Surgery
DESCRIPTION:Hands-0n course for Oral & Maxillofacial Surgeons and Orthodontists
URL:https://www.eacmfs.org/event/orthognathic-surgery-10/
LOCATION:Dept of OMFS Aarhus University Hopsital\, Entrance J\, J206\, Palle Juul-Jensens Blvd 165\, Aarhus\, DK 8200\, Denmark
CATEGORIES:Other Courses
ORGANIZER;CN="Charlotte Wilsky":MAILTO:chapur@rm.dk
END:VEVENT
BEGIN:VEVENT
DTSTART;VALUE=DATE:20220506
DTEND;VALUE=DATE:20220508
DTSTAMP:20260424T185237
CREATED:20220407T140448Z
LAST-MODIFIED:20220407T142036Z
UID:18126-1651795200-1651967999@www.eacmfs.org
SUMMARY:Orthognathic Surgery - Indications\, choice of technique and outcome
DESCRIPTION:2022 SYMPOSIUM PROGRAM lectori (1) \n \n \nContact: elisabeta.vasca@yahoo.com
URL:https://www.eacmfs.org/event/orthognathic-surgery-indications-choice-of-technique-and-outcome/
LOCATION:Hotel Continental Forum\, Arad\, Romania\, Romania
CATEGORIES:Other Courses
ORGANIZER;CN="Lect. Dr E Vasca":MAILTO:elisabeta.vasca@yahoo.com
END:VEVENT
BEGIN:VEVENT
DTSTART;TZID=UTC:20220503T130000
DTEND;TZID=UTC:20220503T190000
DTSTAMP:20260424T185237
CREATED:20220422T082841Z
LAST-MODIFIED:20220422T083003Z
UID:18153-1651582800-1651604400@www.eacmfs.org
SUMMARY:SORG Coprorate Forum on New Procedures in Non-Augmentative Preprosthetic Rehabilitation (40th SFOMK)
DESCRIPTION:2022 02 22 OS Pre-Course_Program_Planning V3 \nOrganising committee\nKetil Moen\, Congress Chair\nBård Alvsaker\, Congress Co-chair\nMikael Magnusson\, Congress Co-chair\nBodil Lund\, President SFOMK \nCongress secretariat\nResia Kongress\nE-mail: congress@resia.se\nPhone: +46 (0)18 18 35 35
URL:https://www.eacmfs.org/event/sorg-coprorate-forum-on-new-procedures-in-non-augmentative-preprosthetic-rehabilitation-40th-sfomk/
CATEGORIES:Other Courses
END:VEVENT
BEGIN:VEVENT
DTSTART;VALUE=DATE:20220420
DTEND;VALUE=DATE:20220424
DTSTAMP:20260424T185237
CREATED:20200522T094535Z
LAST-MODIFIED:20220329T160640Z
UID:16887-1650412800-1650758399@www.eacmfs.org
SUMMARY:14th Congress of the Skull Base Society
DESCRIPTION:http://www.esbs2022.com \nhttp://CALL FOR ABSTRACTS – ESBS 2022
URL:https://www.eacmfs.org/event/14th-congress-of-the-skull-base-society-esbs-2021/
LOCATION:Unnamed Venue\, Riva del Garda Congress Centre
CATEGORIES:Other Courses
ORGANIZER;CN="Laura Semprini":MAILTO:laura.semprini@nordestcongressi.it
END:VEVENT
BEGIN:VEVENT
DTSTART;VALUE=DATE:20220411
DTEND;VALUE=DATE:20220413
DTSTAMP:20260424T185237
CREATED:20220124T152555Z
LAST-MODIFIED:20220124T152555Z
UID:17957-1649635200-1649807999@www.eacmfs.org
SUMMARY:11th BSCOSO Spring Course: Transverse problems.  Orthodontics and Surgery
DESCRIPTION:11 BSCOSO Spring Course Programme \nhttps://www.bscoso.com/bscoso/shape-it-up22-bscoso/program/
URL:https://www.eacmfs.org/event/11th-bscoso-spring-course-transverse-problems-orthodontics-and-surgery/
LOCATION:Grand Hotel Kempinski Vilnius 5*\, Universiteto str. 14\, Vilnius LT-01122\, Lithuania\, Universiteto str. 14\, Vilnius\, LT-01122\, Lithuania
CATEGORIES:Other Courses
ORGANIZER;CN="Mrs Indre Virbickiene":MAILTO:learn@bscoso.com
END:VEVENT
BEGIN:VEVENT
DTSTART;VALUE=DATE:20220402
DTEND;VALUE=DATE:20220405
DTSTAMP:20260424T185237
CREATED:20210903T145621Z
LAST-MODIFIED:20210913T142724Z
UID:17478-1648857600-1649116799@www.eacmfs.org
SUMMARY:ACOMS - Annual Scientific Conference
DESCRIPTION:acoms.org \nLas Vegas
URL:https://www.eacmfs.org/event/acoms-annual-scientific-conference/
LOCATION:Bellagio in Las Vegas\, Las Vegas\, NV\, United States
CATEGORIES:Other Courses
ORGANIZER;CN="Unnamed Organizer":MAILTO:info@acoms.org
END:VEVENT
BEGIN:VEVENT
DTSTART;TZID=UTC:20220317T080000
DTEND;TZID=UTC:20220318T170000
DTSTAMP:20260424T185237
CREATED:20220128T120734Z
LAST-MODIFIED:20220128T125441Z
UID:17972-1647504000-1647622800@www.eacmfs.org
SUMMARY:IBRA Master Course: Realistic Treatment in Complex Condylar Fractures - Approaches & Internal Fixation in Pre-fractured Specimens
DESCRIPTION:Course Content_Besancon_2022 \nChairpersons: Prof C Meyer\, Prof A Neff
URL:https://www.eacmfs.org/event/ibra-master-course-realistic-treatment-in-complex-condylar-fractures-approaches-internal-fixation-in-pre-fractured-specimens/
LOCATION:Anatomical Laboratory of the Medical Faculty of Besancon\, 20 rue Ambroise Pare\, Besancon\, 25030\, France
CATEGORIES:Other Courses
ORGANIZER;CN="IBRA Administration Office":MAILTO:info@ibra.net
END:VEVENT
BEGIN:VEVENT
DTSTART;VALUE=DATE:20220104
DTEND;VALUE=DATE:20220107
DTSTAMP:20260424T185237
CREATED:20211012T141956Z
LAST-MODIFIED:20211012T141956Z
UID:17531-1641254400-1641513599@www.eacmfs.org
SUMMARY:CRANIOMAX
DESCRIPTION:Course Organisers:  J Ekanayake\, J Dhanda \nCranioMAX_Jan4-6_22
URL:https://www.eacmfs.org/event/craniomax/
LOCATION:Human Anatomy Lab\, Brighton & Sussex Medical School\, Brighton\, UK
CATEGORIES:Other Courses
ORGANIZER;CN="Unnamed Organizer":MAILTO:nicky@maxfaxdentalimplants.co.uk
END:VEVENT
BEGIN:VEVENT
DTSTART;VALUE=DATE:20211206
DTEND;VALUE=DATE:20211211
DTSTAMP:20260424T185237
CREATED:20200225T152510Z
LAST-MODIFIED:20201021T114344Z
UID:16718-1638748800-1639180799@www.eacmfs.org
SUMMARY:32nd World Congress of the International College for Maxillofacial Surgery
DESCRIPTION:PREVIOUS DATE – 2-5TH DECEMBER 2020 \nhttps://www.icmfs.com \n  \n  \n 
URL:https://www.eacmfs.org/event/32nd-world-congress-of-the-international-college-for-maxillofacial-surgery/
LOCATION:Unnamed Venue\, Mahe\, Seychelles
CATEGORIES:Other Courses
ORGANIZER;CN="Unnamed Organizer":MAILTO:info@icmfs2020.com
END:VEVENT
BEGIN:VEVENT
DTSTART;VALUE=DATE:20211123
DTEND;VALUE=DATE:20211124
DTSTAMP:20260424T185237
CREATED:20210916T095911Z
LAST-MODIFIED:20210916T095911Z
UID:17499-1637625600-1637711999@www.eacmfs.org
SUMMARY:CADERVERIC SPEECH AND PALATE SURGERY COURSE
DESCRIPTION:Faculty: \nMr P Hodgkinson \nMr D Sainsbury \nMr A Smyth \nMs J Miller \nDr S Butterworth \nApplication form (jotform.com) \nPalate course Advert
URL:https://www.eacmfs.org/event/caderveric-speech-and-palate-surgery-course-2/
LOCATION:Newcastle Surgical Training Centre\, Freeman Hospital\, Newcastle\, NE7 7DN\, UK
CATEGORIES:Other Courses
ORGANIZER;CN="Louise Sore":MAILTO:louise.sore@nuth.nhs.uk
END:VEVENT
BEGIN:VEVENT
DTSTART;VALUE=DATE:20210929
DTEND;VALUE=DATE:20211003
DTSTAMP:20260424T185237
CREATED:20200716T123141Z
LAST-MODIFIED:20200716T123141Z
UID:16994-1632873600-1633219199@www.eacmfs.org
SUMMARY:56th Congres de la Societe Francaise de Stomatologie\, Chirurgie Maxillo-Faciale et Chirurgie Orale
DESCRIPTION:http://atout-org.com/cmf2021;). \nPresident: Prof C Meyer
URL:https://www.eacmfs.org/event/56th-congres-de-la-societe-francaise-de-stomatologie-chirurgie-maxillo-faciale-et-chirurgie-orale/
LOCATION:Palaise des Congres\, 3 Boulevard Ouest\, Besancon\, 25\,050
CATEGORIES:Other Courses
ORGANIZER;CN="Unnamed Organizer":MAILTO:contact@sfscmfco.fr
END:VEVENT
BEGIN:VEVENT
DTSTART;VALUE=DATE:20210927
DTEND;VALUE=DATE:20211003
DTSTAMP:20260424T185237
CREATED:20201208T102136Z
LAST-MODIFIED:20201208T102136Z
UID:17186-1632700800-1633219199@www.eacmfs.org
SUMMARY:AAOMS - 2021 Annual meeting
DESCRIPTION:https://www.aaoms.org/meetings-exhibitions/annual-meeting/102nd-annual-meeting
URL:https://www.eacmfs.org/event/aaoms-2021-annual-meeting/
LOCATION:Music City Center\, Omni Nashville Hotel\, Nashville\, Tenn.\, United States
CATEGORIES:Other Courses
END:VEVENT
BEGIN:VEVENT
DTSTART;VALUE=DATE:20210901
DTEND;VALUE=DATE:20210905
DTSTAMP:20260424T185237
CREATED:20210511T150403Z
LAST-MODIFIED:20210511T150403Z
UID:17392-1630454400-1630799999@www.eacmfs.org
SUMMARY:TMJ Course
DESCRIPTION:https://www.ipface.pt/image.ashx?i=1592896.pdf&fn=Pos-Graduacao-ATM-20 \nPROF. DOUTOR DAVID ÂNGELO\n(DIRETOR DO CURSO)\nPROF. DOUTOR FLORENCIO MONJE\nPROF. DOUTOR FRANCISCO SALVADO\nPROF. DOUTOR DR. RAÚL-GONZÁLEZ\nDR. DAVID SANZ\nDR. IGOR MARQU
URL:https://www.eacmfs.org/event/tmj-course/
CATEGORIES:Other Courses
ORGANIZER;CN="Unnamed Organizer":MAILTO:cursoatm2021@gmail.com
END:VEVENT
BEGIN:VEVENT
DTSTART;VALUE=DATE:20210901
DTEND;VALUE=DATE:20210905
DTSTAMP:20260424T185237
CREATED:20200225T153236Z
LAST-MODIFIED:20201103T163820Z
UID:16722-1630454400-1630799999@www.eacmfs.org
SUMMARY:25th ICOMS postponed until Spring 2022
DESCRIPTION:https://www.iaoms.org/education/icoms2021/ \nDate to be announced – Spring 2022
URL:https://www.eacmfs.org/event/25th-icoms/
LOCATION:Unnamed Venue\, Glasgow\, UK
CATEGORIES:Other Courses
ORGANIZER;CN="IAOMS":MAILTO:info@iaoms.org
END:VEVENT
BEGIN:VEVENT
DTSTART;VALUE=DATE:20210722
DTEND;VALUE=DATE:20210726
DTSTAMP:20260424T185237
CREATED:20190822T110201Z
LAST-MODIFIED:20200416T103818Z
UID:16372-1626912000-1627257599@www.eacmfs.org
SUMMARY:AHNS 10th International Conference on Head and Neck Cancer - Survivorship Through Quality &  Innovation
DESCRIPTION:https://www.ahns.info/meetings/ \nPostponed from 18-22nd July 2020
URL:https://www.eacmfs.org/event/ahns-10th-international-conference-on-head-and-neck-cancer-survivorship-through-quality-innovation/
LOCATION:Hyatt Regency\, Chicago. Illinois\, United States
CATEGORIES:Other Courses
END:VEVENT
BEGIN:VEVENT
DTSTART;VALUE=DATE:20210630
DTEND;VALUE=DATE:20210704
DTSTAMP:20260424T185237
CREATED:20200320T151407Z
LAST-MODIFIED:20210120T105602Z
UID:16759-1625011200-1625356799@www.eacmfs.org
SUMMARY:ECHNO-ICHNO 2021 - Virtual event
DESCRIPTION:www.EHNS.org  \nJoint European Congress on Head and Neck Oncology (ECHNO) and the International Congress on Innovative Approaches in Head and Neck Oncology (ICHNO) \nEHNS President – Prof Dr Wojciech Golusinski – EHNS President \n 
URL:https://www.eacmfs.org/event/echno/
LOCATION:Virtual event
CATEGORIES:Other Courses
END:VEVENT
BEGIN:VEVENT
DTSTART;VALUE=DATE:20210604
DTEND;VALUE=DATE:20210607
DTSTAMP:20260424T185237
CREATED:20200225T151904Z
LAST-MODIFIED:20201021T113943Z
UID:16715-1622764800-1623023999@www.eacmfs.org
SUMMARY:14th Asian Congress on Oral & Maxillofacial Surgery (ACOMS)
DESCRIPTION:PREVIOUS DATE – 23-25TH OCTOBER 2020 \nPresident: Dr Tian Ee Seah \nChairperson: Dr Raymond Wong \nhttp://www.acoms2020.sg/contact-us.html
URL:https://www.eacmfs.org/event/14th-asian-congress-on-oral-maxillofacial-surgery-acoms/
LOCATION:Marina Bay Sands Convention Centre\, 10 Bayfront Avenue\, 018956\, Singapore
CATEGORIES:Other Courses
ORGANIZER;CN="Conference Management Centre":MAILTO:acoms2020@sda.org.sg
END:VEVENT
BEGIN:VEVENT
DTSTART;VALUE=DATE:20210527
DTEND;VALUE=DATE:20210530
DTSTAMP:20260424T185237
CREATED:20200130T132722Z
LAST-MODIFIED:20200421T104143Z
UID:16675-1622073600-1622332799@www.eacmfs.org
SUMMARY:9th Congres de l'AFCF
DESCRIPTION:Postponed from 4-6 June 2020
URL:https://www.eacmfs.org/event/9th-congres-de-lafcf/
LOCATION:The Royaumont Royal Abbey\, Ile-de-France\, France
CATEGORIES:Other Courses
ORGANIZER;CN="Unnamed Organizer":MAILTO:contact@afcface.fr
END:VEVENT
BEGIN:VEVENT
DTSTART;VALUE=DATE:20210506
DTEND;VALUE=DATE:20210508
DTSTAMP:20260424T185237
CREATED:20210317T182334Z
LAST-MODIFIED:20210318T120953Z
UID:17333-1620259200-1620431999@www.eacmfs.org
SUMMARY:Hands-On Intensive Cadaver Course in Orthognathic Surgery
DESCRIPTION:Coordinators:  Dr F Hernandez Alfaro\, Dr A Valls \nFlyer Hands on Cadaver Intensive Course in Orthognathic Surgery and Ancillary Procedures_20-21 (003) \ninfodonto@uic.es \n 
URL:https://www.eacmfs.org/event/hands-on-intensive-cadaver-course-in-orthognathic-surgery-2/
LOCATION:International University of Catalonia\, Barcelona\, Spain
CATEGORIES:Other Courses
ORGANIZER;CN="Cristina Junquera":MAILTO:cjunquera@uic.es
END:VEVENT
BEGIN:VEVENT
DTSTART;VALUE=DATE:20210423
DTEND;VALUE=DATE:20210425
DTSTAMP:20260424T185237
CREATED:20200924T103533Z
LAST-MODIFIED:20200924T103622Z
UID:17051-1619136000-1619308799@www.eacmfs.org
SUMMARY:International Conference - Kyiv-Marburg
DESCRIPTION:https://joint-together.com/
URL:https://www.eacmfs.org/event/international-conference-kyiv-marburg/
LOCATION:Premier Hotel Rus\, 4 Hospitalna St\, Kyiv\, Ukraine
CATEGORIES:Other Courses
ORGANIZER;CN="MedEuroindex Ltd":MAILTO:irinagruzd.medeuroindex@gmail.com
END:VEVENT
BEGIN:VEVENT
DTSTART;VALUE=DATE:20210422
DTEND;VALUE=DATE:20210428
DTSTAMP:20260424T185237
CREATED:20200630T135152Z
LAST-MODIFIED:20200630T135152Z
UID:16985-1619049600-1619567999@www.eacmfs.org
SUMMARY:42nd ACOMS Annual Scientific Conference
DESCRIPTION:
URL:https://www.eacmfs.org/event/42nd-acoms-annual-scientific-conference/
LOCATION:Bellagio\, Las Vegas\, NV.\, NV 89109\, United States
CATEGORIES:Other Courses
END:VEVENT
BEGIN:VEVENT
DTSTART;VALUE=DATE:20210311
DTEND;VALUE=DATE:20210313
DTSTAMP:20260424T185237
CREATED:20191126T114642Z
LAST-MODIFIED:20201130T191239Z
UID:16511-1615420800-1615593599@www.eacmfs.org
SUMMARY:Current Concepts in Gender Affirming Surgery for Women in Transition - online event
DESCRIPTION: Online event \nwww.genderconfirmationsurgery.com
URL:https://www.eacmfs.org/event/current-concepts-in-gender-affirming-surgery-for-women-in-transition-2/
LOCATION:Virtual event
CATEGORIES:Other Courses
END:VEVENT
BEGIN:VEVENT
DTSTART;TZID=UTC:20201203T080000
DTEND;TZID=UTC:20201205T170000
DTSTAMP:20260424T185237
CREATED:20200622T154251Z
LAST-MODIFIED:20200622T154251Z
UID:16982-1606982400-1607187600@www.eacmfs.org
SUMMARY:2020 Dental Implant Conference - Virtual
DESCRIPTION:
URL:https://www.eacmfs.org/event/2020-dental-implant-conference-virtual/
CATEGORIES:Other Courses
END:VEVENT
END:VCALENDAR