
BEGIN:VCALENDAR
VERSION:2.0
PRODID:-//EACMFS - ECPv6.15.20//NONSGML v1.0//EN
CALSCALE:GREGORIAN
METHOD:PUBLISH
X-WR-CALNAME:EACMFS
X-ORIGINAL-URL:https://www.eacmfs.org
X-WR-CALDESC:Events for EACMFS
REFRESH-INTERVAL;VALUE=DURATION:PT1H
X-Robots-Tag:noindex
X-PUBLISHED-TTL:PT1H
BEGIN:VTIMEZONE
TZID:UTC
BEGIN:STANDARD
TZOFFSETFROM:+0000
TZOFFSETTO:+0000
TZNAME:UTC
DTSTART:20230101T000000
END:STANDARD
END:VTIMEZONE
BEGIN:VEVENT
DTSTART;VALUE=DATE:20250703
DTEND;VALUE=DATE:20250705
DTSTAMP:20260423T232234
CREATED:20250523T014151Z
LAST-MODIFIED:20250523T014338Z
UID:21850-1751500800-1751673599@www.eacmfs.org
SUMMARY:SORG "Maultäschle” Course on Surgical Approaches: The Clever Path to the Fracture
DESCRIPTION:Chairmen:  \nProf. Dr. Dr. Bernd Lethaus\, PD Dr. Dr. Rüdiger Zimmerer & Prof. Dr. Bernhard Hirt \nPlease note that this course is instructed in German. \nWebsite: S.O.R.G. | Surgical Approaches – The Smart Way to a Fracture \nContact: \nStrasbourg Osteosynthesis Research Group \nKLS Martin Platz 1\n78532 Tuttlingen\, Germany \nTelephone: +49 7461 706-216\nFax: +49 7461 706-350\nEmail: info@sorg-group.com
URL:https://www.eacmfs.org/event/sorg-maultaschle-course-on-surgical-approaches-the-clever-path-to-the-fracture/
LOCATION:Anatomisches Institut der Eberhard-Karls-Universität\, Neues Lehrgebäude\, Elfriede-Aulhorn-Str. 8\, Tübingen\, 72076\, Germany
CATEGORIES:Other Courses
END:VEVENT
BEGIN:VEVENT
DTSTART;VALUE=DATE:20250702
DTEND;VALUE=DATE:20250705
DTSTAMP:20260423T232234
CREATED:20250206T101626Z
LAST-MODIFIED:20250206T101626Z
UID:21595-1751414400-1751673599@www.eacmfs.org
SUMMARY:10th Anniversary of BSSO (Biennial Symposium of Surgical Orthodontics)
DESCRIPTION:Website: https://www.bsso.nl/ \nOrganisers: \nEddy Becking\nSandy van Teeseling\nIreen Rientjes \nEmail: info@ireenrientjes.nl \nBSSO2025_promotion
URL:https://www.eacmfs.org/event/10th-anniversary-of-bsso-biennial-symposium-of-surgical-orthodontics/
LOCATION:Grand Hall\, Lange Begijnestraat 11\, Haarlem\, Netherlands
CATEGORIES:Association - NETHERLANDS - NVMKA,Other Courses
END:VEVENT
BEGIN:VEVENT
DTSTART;VALUE=DATE:20250620
DTEND;VALUE=DATE:20250622
DTSTAMP:20260423T232234
CREATED:20250522T043026Z
LAST-MODIFIED:20250522T043026Z
UID:21844-1750377600-1750550399@www.eacmfs.org
SUMMARY:Facial Osteotomy Cadaver Course
DESCRIPTION:Course director: Dr Krisztián Nagy \nCourse highlights: \n\nCBCT imaging and 3D planning support\nA curated collection of relevant surgical publications\nTwo participants per cadaver table\, each supervised by a faculty member\nA get-together dinner on the first evening\nFull support with accommodation and transport arrangements upon request and agreement\n\nWebsite/registration: CADAVER COURSE 20-21th June 2025 – Intercleft Foundation
URL:https://www.eacmfs.org/event/facial-osteotomy-cadaver-course/
LOCATION:Semmelweis University\, Budapest\, Hungary
CATEGORIES:Other Courses
END:VEVENT
BEGIN:VEVENT
DTSTART;VALUE=DATE:20250619
DTEND;VALUE=DATE:20250622
DTSTAMP:20260423T232234
CREATED:20250522T082736Z
LAST-MODIFIED:20250522T082736Z
UID:21847-1750291200-1750550399@www.eacmfs.org
SUMMARY:Craniofacial Reconstruction Conference: The Nose
DESCRIPTION:Keynote Speaker: Prof P Kessler \nWebsite: https://cfrconference.eu/ \n 
URL:https://www.eacmfs.org/event/craniofacial-reconstruction-conference-the-nose/
LOCATION:Van der Valk Hotel\, Tommaso Albinonistraat 200\, Amsterdam\, Netherlands
CATEGORIES:Other Courses
END:VEVENT
BEGIN:VEVENT
DTSTART;VALUE=DATE:20250618
DTEND;VALUE=DATE:20250621
DTSTAMP:20260423T232234
CREATED:20241213T155448Z
LAST-MODIFIED:20250107T114421Z
UID:21390-1750204800-1750463999@www.eacmfs.org
SUMMARY:BAOMS Annual Scientific Meeting 2025
DESCRIPTION:President: Professor Kathleen Fan \nWebsite: BAOMS Annual Scientific Meeting 2025 | British Association of Oral and Maxillofacial Surgeons \nPlease note that abstract submission will CLOSE at Noon 12pm GMT on Tuesday 21 January 2025.
URL:https://www.eacmfs.org/event/baoms-annual-scientific-meeting-2025/
LOCATION:Guildhall\, London\, EC2V 7HH\, United Kingdom
CATEGORIES:Other Courses
ORGANIZER;CN="BAOMS":MAILTO:office@baoms.org.uk
END:VEVENT
BEGIN:VEVENT
DTSTART;VALUE=DATE:20250523
DTEND;VALUE=DATE:20250525
DTSTAMP:20260423T232234
CREATED:20250305T120023Z
LAST-MODIFIED:20250430T095347Z
UID:21650-1747958400-1748131199@www.eacmfs.org
SUMMARY:IBRA Advanced Course with Anatomical Specimens - Orthognathic Surgery
DESCRIPTION:Chairperson: Prim DDr. Michael Öckher\, Vienna\, Austria  \nWebsite: Orthognathic Surgery | IBRA – International Bone Research Association
URL:https://www.eacmfs.org/event/ibra-advanced-course-with-anatomical-specimens-orthognathic-surgery/
LOCATION:Vienna\, Vienna\, Austria
CATEGORIES:Other Courses
ORGANIZER;CN="IBRA Administration Office":MAILTO:info@ibra.net
END:VEVENT
BEGIN:VEVENT
DTSTART;VALUE=DATE:20250522
DTEND;VALUE=DATE:20250526
DTSTAMP:20260423T232234
CREATED:20231214T110538Z
LAST-MODIFIED:20241011T134018Z
UID:20107-1747872000-1748217599@www.eacmfs.org
SUMMARY:ICOMS 2025  SINGAPORE
DESCRIPTION:ICOMS 2025 booklet (A5)-4I \nmailto:info@iaoms.org \nvideo1399814745 ICOMS
URL:https://www.eacmfs.org/event/icoms-2025/
LOCATION:The Sands Expo and Convention Centre\, 10 Bayfront Ave\, Singapore\, Rep of Singapore\, 018956
CATEGORIES:Other Courses
END:VEVENT
BEGIN:VEVENT
DTSTART;VALUE=DATE:20250508
DTEND;VALUE=DATE:20250511
DTSTAMP:20260423T232234
CREATED:20250212T100413Z
LAST-MODIFIED:20250212T100413Z
UID:21615-1746662400-1746921599@www.eacmfs.org
SUMMARY:Combined Maxillofacial Congress of the French Society (AFCF) and the Catalan Society
DESCRIPTION:Official languages are Catalan\, Franch and English. \nWebsite: https://2025.afcface-scbcmo.com/
URL:https://www.eacmfs.org/event/combined-maxillofacial-congress-of-the-french-society-afcf-and-the-catalan-society/
LOCATION:Palau de congressos de Girona\, Passeig de la Devesa\, 35\, Girona\, 17001\, Spain
CATEGORIES:Other Courses
END:VEVENT
BEGIN:VEVENT
DTSTART;VALUE=DATE:20250508
DTEND;VALUE=DATE:20250510
DTSTAMP:20260423T232234
CREATED:20240913T164941Z
LAST-MODIFIED:20240913T164941Z
UID:20892-1746662400-1746835199@www.eacmfs.org
SUMMARY:Hands-On Intensive Cadaver Course in Orthognathic Surgery
DESCRIPTION:Directors – Dr Federico Hernandez-Alfaro\, Dr Adaia Valls \nFO_FC_A5_Flyers Handson 2024-2025 \n 
URL:https://www.eacmfs.org/event/hands-on-intensive-cadaver-course-in-orthognathic-surgery-3/
LOCATION:Universitat Internacional de Catalunya Facuty of Dentistry\, Sant Cugat Campus\, Barcelona\, 08195 Sant Cugat del Valles\, Spain
CATEGORIES:Other Courses
ORGANIZER;CN="Paola Lago":MAILTO:infodonto@uic.es
END:VEVENT
BEGIN:VEVENT
DTSTART;VALUE=DATE:20250502
DTEND;VALUE=DATE:20250503
DTSTAMP:20260423T232234
CREATED:20241009T150816Z
LAST-MODIFIED:20241009T152207Z
UID:21104-1746144000-1746230399@www.eacmfs.org
SUMMARY:Patient Specific Implants Research and Teaching Institute
DESCRIPTION:Contact: secretariat@psirti.eu \nWebsite: https://event.fourwaves.com/psirtic25/pages \nEACMFS members are eligible for a reduced registration fee \n 
URL:https://www.eacmfs.org/event/patient-specific-implants-research-and-teaching-institute/
LOCATION:Bruges Site Oud Sint-Jan\, Zonnekemeers\, Bruges\, 8000 Brugge\, Belgium
CATEGORIES:Other Courses
END:VEVENT
BEGIN:VEVENT
DTSTART;VALUE=DATE:20250411
DTEND;VALUE=DATE:20250412
DTSTAMP:20260423T232234
CREATED:20241231T110207Z
LAST-MODIFIED:20241231T110207Z
UID:21459-1744329600-1744415999@www.eacmfs.org
SUMMARY:Innovation and Advancements in Maxillo-Facial Surgery
DESCRIPTION:Includes four sessions: \n1. Orthognathic \n2. TMJ \n3. Trauma \n4. Preprosthetic
URL:https://www.eacmfs.org/event/innovation-and-advancements-in-maxillo-facial-surgery/
LOCATION:Verona\, Verona\, Italy
CATEGORIES:Other Courses
END:VEVENT
BEGIN:VEVENT
DTSTART;VALUE=DATE:20250328
DTEND;VALUE=DATE:20250330
DTSTAMP:20260423T232234
CREATED:20241202T122324Z
LAST-MODIFIED:20241202T122548Z
UID:21346-1743120000-1743292799@www.eacmfs.org
SUMMARY:SORG Cleft and Face Course
DESCRIPTION:Course directors: \nPeter Kessler – Maastricht\, The Netherlands \nGwen Swennen – Bruges\, Belgium \nModule 1: Cleft Surgery (Friday\, 28th March) \nModule 2: Facial Aesthetics – State-of-the-Art “Surgical” and “Non-Surgical” Techniques (Saturday\, 29th March)
URL:https://www.eacmfs.org/event/sorg-cleft-and-face-maastricht-2025/
LOCATION:University Hospital MUMC\, P. Debyelaan 25\, Maastricht\, 6229 HX\, Netherlands
CATEGORIES:Other Courses
END:VEVENT
BEGIN:VEVENT
DTSTART;VALUE=DATE:20250312
DTEND;VALUE=DATE:20250316
DTSTAMP:20260423T232234
CREATED:20241007T132453Z
LAST-MODIFIED:20241007T132507Z
UID:21072-1741737600-1742083199@www.eacmfs.org
SUMMARY:59 Congres Societe Franaise de Stomatology Chirurgie Maxillo Facial & Chirurgie Orale
DESCRIPTION:President:  Andre Chaine \nhttp://www.atout-org.com \nProject Manager – Emilie Bres
URL:https://www.eacmfs.org/event/59-congres-societe-franaise-de-stomatology-chirurgie-maxillo-facial-chirurgie-orale/
LOCATION:Paris CNIT\, Paris\, France
CATEGORIES:Other Courses
END:VEVENT
BEGIN:VEVENT
DTSTART;VALUE=DATE:20250307
DTEND;VALUE=DATE:20250308
DTSTAMP:20260423T232234
CREATED:20241202T124611Z
LAST-MODIFIED:20241202T124611Z
UID:21350-1741305600-1741391999@www.eacmfs.org
SUMMARY:Modern Trends in Treatment of Facial Dentoskeletal Deformities
DESCRIPTION:Chairmen: \nKrystof Dowgierd \nLorenzo Trevisiol
URL:https://www.eacmfs.org/event/modern-trends-in-treatment-of-facial-dentoskeletal-deformities/
LOCATION:PL-Wroclaw\, Wroclaw\, Poland
CATEGORIES:Other Courses
END:VEVENT
BEGIN:VEVENT
DTSTART;VALUE=DATE:20250303
DTEND;VALUE=DATE:20250304
DTSTAMP:20260423T232234
CREATED:20250107T111105Z
LAST-MODIFIED:20250121T172415Z
UID:21498-1740960000-1741046399@www.eacmfs.org
SUMMARY:SORG C5 Interactive Panel - Reconstruction of the midface and nose
DESCRIPTION:Time: 18:00 – 19:30 CET \nSpeakers: Peer Kämmerer & Bhavin Visavadia \nWebsite: S.O.R.G. | C5 Interactive Panel – Let’s Discuss Your Case \nThis live webinar is free of charge. Course participation in 5 online events\, safe spot and certificates included.
URL:https://www.eacmfs.org/event/c5-interactive-panel-reconstruction-of-the-midface-and-nose/
LOCATION:Online event\, Online
CATEGORIES:Other Courses
END:VEVENT
BEGIN:VEVENT
DTSTART;VALUE=DATE:20250227
DTEND;VALUE=DATE:20250301
DTSTAMP:20260423T232234
CREATED:20241125T134334Z
LAST-MODIFIED:20241125T135047Z
UID:21327-1740614400-1740787199@www.eacmfs.org
SUMMARY:AO CMF - Orthognathic Management of Facial Deformities
DESCRIPTION:Chairpersons: \nThomas Kofod – Rigshospitalet\, Copenhagen University Hospital \nDaljit Dhariwal – Oxford University Hospital \nWebsite: AO CMF Course—Orthognathic Management of Facial Deformities \nContact: \nEdina Buzas \nEmail: edina.buzas@aofoundation.org
URL:https://www.eacmfs.org/event/orthognathic-management-of-facial-deformities/
LOCATION:Clarion Hotel Copenhagen Airport\, 20 Ellehammersvej\, Kastrup\, 2770\, Denmark
CATEGORIES:Other Courses
END:VEVENT
BEGIN:VEVENT
DTSTART;VALUE=DATE:20250224
DTEND;VALUE=DATE:20250225
DTSTAMP:20260423T232234
CREATED:20250107T110722Z
LAST-MODIFIED:20250121T172334Z
UID:21496-1740355200-1740441599@www.eacmfs.org
SUMMARY:SORG C5 Interactive Panel - Reconstruction in congenital deformities
DESCRIPTION:Time: 18:00 – 19:30 CET \nSpeakers: Alexander Gaggl & Michael Engel \nWebsite: S.O.R.G. | C5 Interactive Panel – Let’s Discuss Your Case \nThis live webinar is free of charge. Course participation in 5 online events\, safe spot and certificates included.
URL:https://www.eacmfs.org/event/c5-interactive-panel-reconstruction-in-congenital-deformities/
LOCATION:Online event\, Online
CATEGORIES:Other Courses
END:VEVENT
BEGIN:VEVENT
DTSTART;VALUE=DATE:20250217
DTEND;VALUE=DATE:20250218
DTSTAMP:20260423T232234
CREATED:20250107T110538Z
LAST-MODIFIED:20250121T172252Z
UID:21493-1739750400-1739836799@www.eacmfs.org
SUMMARY:SORG C5 Interactive Panel - Defect-oriented decision making in reconstruction of the mandible
DESCRIPTION:Time: 18:00 – 19:30 CET \nSpeakers: Jürgen Hoffmann & Oliver Ristow \nWebsite: S.O.R.G. | C5 Interactive Panel – Let’s Discuss Your Case \nThis live webinar is free of charge. Course participation in 5 online events\, safe spot and certificates included.
URL:https://www.eacmfs.org/event/c5-interactive-panel-defect-oriented-decision-making-in-reconstruction-of-the-mandible/
LOCATION:Online event\, Online
CATEGORIES:Other Courses
END:VEVENT
BEGIN:VEVENT
DTSTART;VALUE=DATE:20250217
DTEND;VALUE=DATE:20250219
DTSTAMP:20260423T232234
CREATED:20241011T140803Z
LAST-MODIFIED:20241126T115642Z
UID:21128-1739750400-1739923199@www.eacmfs.org
SUMMARY:Maxillofacial Trauma - Basic Principles of Assessment and Treatment
DESCRIPTION:Telephone: +49 7461 706-216 \nWebsite: S.O.R.G. | Maxillofacial Trauma – Basic Principles of Assessment and Treatment 2025 \nEmail: info@sorg-group.com \n 
URL:https://www.eacmfs.org/event/maxillofacial-trauma-basic-principles-of-assessment-and-treatment-2/
LOCATION:Holiday Inn City Centre\, Manchester\, United Kingdom
CATEGORIES:Other Courses
END:VEVENT
BEGIN:VEVENT
DTSTART;VALUE=DATE:20250210
DTEND;VALUE=DATE:20250211
DTSTAMP:20260423T232234
CREATED:20250107T110212Z
LAST-MODIFIED:20250121T172233Z
UID:21490-1739145600-1739231999@www.eacmfs.org
SUMMARY:SORG C5 Interactive Panel - Prosthetic driven planning in head & neck reconstruction: The use of 3D VSP in a multi-disciplinary setting
DESCRIPTION:Time: 18:00 – 19:30 CET \nSpeakers: Sebastiaan de Visscher & Nathalie Vosselman \nWebsite: S.O.R.G. | C5 Interactive Panel – Let’s Discuss Your Case \nThis live webinar is free of charge. Course participation in 5 online events\, safe spot and certificates included.
URL:https://www.eacmfs.org/event/c5-interactive-panel-prosthetic-driven-planning-in-head-neck-reconstruction-the-use-of-3d-vsp-in-a-multi-disciplinary-setting/
LOCATION:Online event\, Online
CATEGORIES:Other Courses
END:VEVENT
BEGIN:VEVENT
DTSTART;VALUE=DATE:20250203
DTEND;VALUE=DATE:20250204
DTSTAMP:20260423T232234
CREATED:20250107T105545Z
LAST-MODIFIED:20250121T172209Z
UID:21486-1738540800-1738627199@www.eacmfs.org
SUMMARY:SORG C5 Interactive Panel - Reconstruction after reconstruction
DESCRIPTION:Time: 18:00 – 19:30 CET \nSpeakers: Marco Kesting & Rainer Lutz \nWebsite: S.O.R.G. | C5 Interactive Panel – Let’s Discuss Your Case \nThis live webinar is free of charge. Course participation in 5 online events\, safe spot and certificates included.
URL:https://www.eacmfs.org/event/c5-interactive-panel-reconstruction-after-reconstruction/
LOCATION:Online event\, Online
CATEGORIES:Other Courses
END:VEVENT
BEGIN:VEVENT
DTSTART;VALUE=DATE:20250124
DTEND;VALUE=DATE:20250127
DTSTAMP:20260423T232234
CREATED:20241010T124156Z
LAST-MODIFIED:20241010T124600Z
UID:21115-1737676800-1737935999@www.eacmfs.org
SUMMARY:32nd Panhellenic Conference of Oral & Maxillofacial Surgery (HAOMS 2025 Face to Face)
DESCRIPTION:President:  Prof C Krasakakis \nhttps://haoms2025.org/ \n\n\nCONGRESS SECRETARIAT\nMideast Travel | Georgia Kritsotaki\n211 211 8841\ngkritsotaki@mideast.gr\nsecretariat@haoms2025.gr
URL:https://www.eacmfs.org/event/32nd-panhellenic-conference-of-oral-maxillofacial-surgery-haoms-2025-face-to-face/
LOCATION:Megaros Musica Athens.\, Athens\, Greece
CATEGORIES:Other Courses
END:VEVENT
BEGIN:VEVENT
DTSTART;VALUE=DATE:20241212
DTEND;VALUE=DATE:20241215
DTSTAMP:20260423T232234
CREATED:20240925T151111Z
LAST-MODIFIED:20240925T151158Z
UID:20907-1733961600-1734220799@www.eacmfs.org
SUMMARY:48th Annual Conference of Association of Oral & Maxillofacial Surgeons of India
DESCRIPTION:http://48aomsiconference.com/ \nOrganising Chairman – Prof Dr Rajarshi Banerjee \nOrganising Secretary – Prof Dr Samiran Ghosh \n  \n 
URL:https://www.eacmfs.org/event/48th-annual-conference-of-association-of-oral-maxillofacial-surgeons-of-india/
LOCATION:Biswa Bangla Copnvention Centre\, Kolkata\, 70-0156\, India
CATEGORIES:Other Courses
END:VEVENT
BEGIN:VEVENT
DTSTART;VALUE=DATE:20241128
DTEND;VALUE=DATE:20241129
DTSTAMP:20260423T232234
CREATED:20241014T091606Z
LAST-MODIFIED:20241118T234917Z
UID:21134-1732752000-1732838399@www.eacmfs.org
SUMMARY:Cleft lip and palate:   Which odonto-stomato-maxillofacial management?
DESCRIPTION:Live webinar on 28th November 13:30 – 16:00 ET \nFree registration \nWebsite: https://r.newsletter.regimedia.com/mk/mr/sh/7nVTPdm3ThWmbAa3rC6E82UDpSJRVq6/rib-mdWWa6wa \nProgramme: progWEBINAR_AIMOM_2024
URL:https://www.eacmfs.org/event/cleft-lip-and-palate-which-odonto-stomato-maxillofacial-management/
LOCATION:Online event\, Online
CATEGORIES:Other Courses
END:VEVENT
BEGIN:VEVENT
DTSTART;VALUE=DATE:20241122
DTEND;VALUE=DATE:20241124
DTSTAMP:20260423T232234
CREATED:20240215T093412Z
LAST-MODIFIED:20240215T122731Z
UID:20372-1732233600-1732406399@www.eacmfs.org
SUMMARY:IBRA Advanced Course: Virtual Planning and 3D-Reconstruction on Anatomical Specimen
DESCRIPTION:Chairpersons: \nProf. Dr. Benoit Schaller\, Bern\, Switzerland \nProf. Dr. Christian Freudlsperger\, Auckland\, New Zealand \n  \nVirtual Surgical Planning of Mandibular Reconstruction Using Free Fibular Flap with Immediate Dental Implantation | IBRA – International Bone Research Association
URL:https://www.eacmfs.org/event/ibra-advanced-course-virtual-planning-and-3d-reconstruction-on-anatomical-specimen/
LOCATION:IBRA Basel\, Switzerland\, IBRA Institute\, BioSkills Lab\, Basel\, CH-4057\, Switzerland
CATEGORIES:Other Courses
END:VEVENT
BEGIN:VEVENT
DTSTART;VALUE=DATE:20241119
DTEND;VALUE=DATE:20241123
DTSTAMP:20260423T232234
CREATED:20240913T165349Z
LAST-MODIFIED:20240913T165349Z
UID:20896-1731974400-1732319999@www.eacmfs.org
SUMMARY:Intensive Course in Orthofacial Surgery
DESCRIPTION:BICOS 11.24 \nDirector – Prof. Federico Hernandez Alfaro \nContact Maya Ávila   – mavila@institutomaxilofacial.com
URL:https://www.eacmfs.org/event/intensive-course-in-orthofacial-surgery-2/
LOCATION:Teknon Medical Center\, Calle Vilana 12\, Barcelona\, Spain
CATEGORIES:Other Courses
ORGANIZER;CN="Maya Avila":MAILTO:mavila@institutomaxilofacial.com
END:VEVENT
BEGIN:VEVENT
DTSTART;VALUE=DATE:20241117
DTEND;VALUE=DATE:20241120
DTSTAMP:20260423T232234
CREATED:20240425T131145Z
LAST-MODIFIED:20240425T131825Z
UID:20631-1731801600-1732060799@www.eacmfs.org
SUMMARY:Korean Society of Plastic and Reconstructive Surgeons
DESCRIPTION:https://www.prskorea.org/
URL:https://www.eacmfs.org/event/korean-society-of-plastic-and-reconstructive-surgeons/
LOCATION:Grand Intercontiental Seoul Parnas\, Seoul\, Korea\, Seoul
CATEGORIES:Other Courses
END:VEVENT
BEGIN:VEVENT
DTSTART;VALUE=DATE:20241114
DTEND;VALUE=DATE:20241120
DTSTAMP:20260423T232234
CREATED:20240926T132214Z
LAST-MODIFIED:20240926T132323Z
UID:20911-1731542400-1732060799@www.eacmfs.org
SUMMARY:CUHK ENT Conference 2024
DESCRIPTION:President of Honour – Eugene Nicholas Myers \nCo-chairmen – F Marchal\, Siu Kwan Ng\, Eddy Wong \nSecretariat Office – (852) 3505 1277\n\nRoom 84026\, 6/F\, Lui Che Woo Clinical Sciences Building\, Prince of Wales Hospital\, Shatin\, Hong Kong \nhttps://www.ent.cuhk.edu.hk/entconf2024/
URL:https://www.eacmfs.org/event/cuhk-ent-conference-2024/
LOCATION:Kai Chong Tong\, PEC\, Prince of Wales Hospital\, Hong Kong
CATEGORIES:Other Courses
END:VEVENT
BEGIN:VEVENT
DTSTART;VALUE=DATE:20241109
DTEND;VALUE=DATE:20241110
DTSTAMP:20260423T232234
CREATED:20241101T093915Z
LAST-MODIFIED:20241101T093915Z
UID:21259-1731110400-1731196799@www.eacmfs.org
SUMMARY:State-of-the-Art in 3D Virtual Planning in Orthognathic Surgery
DESCRIPTION:Chairman: Prof Dr Dr Gwen Swennen \nCo-Chairman: Dr Anna Olejnik \nWebsite: KLS Martin | State-of-the-Art in 3D Virtual Planning in Orthognathic Surgery
URL:https://www.eacmfs.org/event/state-of-the-art-in-3d-virtual-planning-in-orthognathic-surgery-2/
LOCATION:The Westin Warsaw\, Al. Jana Pawla II 21\, Warsaw\, 00-854\, Poland
CATEGORIES:Other Courses
END:VEVENT
BEGIN:VEVENT
DTSTART;VALUE=DATE:20241108
DTEND;VALUE=DATE:20241110
DTSTAMP:20260423T232234
CREATED:20241011T135606Z
LAST-MODIFIED:20241018T152201Z
UID:21120-1731024000-1731196799@www.eacmfs.org
SUMMARY:1st Congress of the Portuguese Maxillofacial Society
DESCRIPTION:Programme: PROGRAMA PRELIMINAR MAXILOFACIAL 24 \n \nhttps://diventos.eventkey.pt/geral/inseririnscricao.aspx?evento=1546&formulario=1937 \nhttps://diventos.eventkey.pt/geral/inserirresumo.aspx?evento=1546&formulario=2004
URL:https://www.eacmfs.org/event/1st-congress-of-the-portuguese-maxillofacial-society/
LOCATION:ANJE\, R. de Paulo da Gama\, Porto\, 4169-006\, Portugal
CATEGORIES:Other Courses
END:VEVENT
END:VCALENDAR