
BEGIN:VCALENDAR
VERSION:2.0
PRODID:-//EACMFS - ECPv6.15.20//NONSGML v1.0//EN
CALSCALE:GREGORIAN
METHOD:PUBLISH
X-ORIGINAL-URL:https://www.eacmfs.org
X-WR-CALDESC:Events for EACMFS
REFRESH-INTERVAL;VALUE=DURATION:PT1H
X-Robots-Tag:noindex
X-PUBLISHED-TTL:PT1H
BEGIN:VTIMEZONE
TZID:UTC
BEGIN:STANDARD
TZOFFSETFROM:+0000
TZOFFSETTO:+0000
TZNAME:UTC
DTSTART:20220101T000000
END:STANDARD
END:VTIMEZONE
BEGIN:VEVENT
DTSTART;VALUE=DATE:20240902
DTEND;VALUE=DATE:20240905
DTSTAMP:20260424T064639
CREATED:20240306T121408Z
LAST-MODIFIED:20240306T122423Z
UID:20438-1725235200-1725494399@www.eacmfs.org
SUMMARY:AO CMF Lighthouse Course - Advanced Management of Facial Trauma (With Human Anatomical Specimens)
DESCRIPTION:Course chairs: Dilip Srinivasan and Florian Thieringer \nContact: sandeep.choudhry@aofoundation.org \nCourse information: https://aofnd.my.site.com/evt/s/evt-event/a1o68000000Tutl/e20004470-ao
URL:https://www.eacmfs.org/event/ao-cmf-lighthouse-course-advanced-management-of-facial-trauma-with-human-anatomical-specimens/
LOCATION:Cadlab Cologne\, Nattermannallee 1\, Cologne\, Germany
CATEGORIES:Other Courses
END:VEVENT
BEGIN:VEVENT
DTSTART;VALUE=DATE:20240831
DTEND;VALUE=DATE:20250701
DTSTAMP:20260424T064639
CREATED:20240419T113516Z
LAST-MODIFIED:20240419T130958Z
UID:20603-1725062400-1751327999@www.eacmfs.org
SUMMARY:IAOO/AOCMF Global Online Oral Cancer Diploma
DESCRIPTION:10 online modules over 10 months (on average 2-3 h/week). \nWebsite: Global Oral Cancer Diploma (aofoundation.org) \nFor more information\, please contact oralcancerdiploma@aocmf.org. \n 
URL:https://www.eacmfs.org/event/iaoo-global-oral-cancer-diploma/
LOCATION:Online event\, Online
CATEGORIES:Other Courses
END:VEVENT
BEGIN:VEVENT
DTSTART;TZID=UTC:20240725T080000
DTEND;TZID=UTC:20240727T170000
DTSTAMP:20260424T064639
CREATED:20221018T090814Z
LAST-MODIFIED:20240417T093915Z
UID:18407-1721894400-1722099600@www.eacmfs.org
SUMMARY:16th Asian Congress of Oral & Maxillofacial Surgery
DESCRIPTION:President: Dr Bhagavandas Rai (AOMSI) \nPresident & Organising Chairman: Prof Dr Gunaseelan Rajan \nExecutive Director: Prof Dr Tetsu Takahashi \nHon.General Secretary AOMSI: Dr Girish Rao \nhttp://www.acoms2024.com
URL:https://www.eacmfs.org/event/16th-asian-congress-of-oral-maxillofacial-surgery/
LOCATION:Chennai\, India\, Chennai\, India
CATEGORIES:Other Courses
END:VEVENT
BEGIN:VEVENT
DTSTART;VALUE=DATE:20240705
DTEND;VALUE=DATE:20240707
DTSTAMP:20260424T064639
CREATED:20240326T111800Z
LAST-MODIFIED:20240402T081559Z
UID:20521-1720137600-1720310399@www.eacmfs.org
SUMMARY:SORG - “Maultäschle”- Kurs on Access Surgery: The clever path to the fracture
DESCRIPTION:Chairmen:  \nProf. Dr. Dr. Bernd Lethaus\, PD Dr. Dr. Rüdiger Zimmerer & Prof. Dr. Bernhard Hirt \n  \nPlease note that this course is instructed in German. \nS.O.R.G. | Chirurgische Zugänge – Der schlaue Weg zur Fraktur (sorg-group.com) \n  \nContact: \nStrasbourg Osteosynthesis Research Group \nKLS Martin Platz 1\n78532 Tuttlingen\, Germany \nTelephone: +49 7461 706-216\nFax: +49 7461 706-350\nEmail: info@sorg-group.com
URL:https://www.eacmfs.org/event/sorg-maultaschle-kurs-on-access-surgery-the-clever-path-to-the-fracture/
LOCATION:Anatomisches Institut der Eberhard-Karls-Universität\, Neues Lehrgebäude\, Elfriede-Aulhorn-Str. 8\, Tübingen\, 72076\, Germany
CATEGORIES:Other Courses
END:VEVENT
BEGIN:VEVENT
DTSTART;VALUE=DATE:20240703
DTEND;VALUE=DATE:20240706
DTSTAMP:20260424T064639
CREATED:20231023T150524Z
LAST-MODIFIED:20240222T132527Z
UID:20026-1719964800-1720223999@www.eacmfs.org
SUMMARY:BAOMS Annual Scientific Meeting
DESCRIPTION:https://www.baoms.org.uk/professionals/events/2808/baoms_annual_scientific_meeting_2024
URL:https://www.eacmfs.org/event/baoms-annual-scientific-meeting-2/
LOCATION:Mathematics Institute\, University of Oxford\, Oxford\, United Kingdom
CATEGORIES:Association - UK - BAOMS,National Associations,Other Courses
ORGANIZER;CN="BAOMS":MAILTO:office@baoms.org.uk
END:VEVENT
BEGIN:VEVENT
DTSTART;TZID=UTC:20240624T080000
DTEND;TZID=UTC:20240628T170000
DTSTAMP:20260424T064639
CREATED:20240213T161202Z
LAST-MODIFIED:20240213T161202Z
UID:20345-1719216000-1719594000@www.eacmfs.org
SUMMARY:ECPCA 2024 Congress of the The European Cleft Palate and Craniofacial Anomalies Association
DESCRIPTION:President – Maria Costanza Meazzini \nhttps://ecpcamilan2024.it/
URL:https://www.eacmfs.org/event/ecpca-2024-congress-of-the-the-european-cleft-palate-and-craniofacial-anomalies-association/
LOCATION:Palazzo Castiglioni\, Corso Venezia 47\, 20121 Milan Italy\, Milano\, 20120\, Italy
CATEGORIES:Other Courses
END:VEVENT
BEGIN:VEVENT
DTSTART;VALUE=DATE:20240620
DTEND;VALUE=DATE:20240622
DTSTAMP:20260424T064639
CREATED:20240306T120636Z
LAST-MODIFIED:20240306T122245Z
UID:20434-1718841600-1719014399@www.eacmfs.org
SUMMARY:AO CMF Lighthouse Course - Orthognathic Surgery (With Human Anatomical Specimens)
DESCRIPTION:Course chairs: Guglielmo Ramieri and Patricia Stoor \nContact: beba.poletti@aofoundation.org \nCourse information: https://aofnd.my.site.com/evt/s/evt-event/a1o68000000TvDc/e20004540-ao \n 
URL:https://www.eacmfs.org/event/ao-cmf-lighthouse-course-orthognathic-surgery-with-human-anatomical-specimens/
LOCATION:University of Padua\, via Aristide gabelli 81\, Padua\, Italy
CATEGORIES:Other Courses
END:VEVENT
BEGIN:VEVENT
DTSTART;VALUE=DATE:20240620
DTEND;VALUE=DATE:20240625
DTSTAMP:20260424T064639
CREATED:20240205T173336Z
LAST-MODIFIED:20240205T173448Z
UID:20244-1718841600-1719273599@www.eacmfs.org
SUMMARY:12th AFCF Congress - Association Francaise des Chirurgiens de la Face
DESCRIPTION:https://www.afcface.fr/
URL:https://www.eacmfs.org/event/12th-afcf-congress/
LOCATION:Hotel Dieu Saint Jacques\, Toulouse\, France\, Toulouse\, France
CATEGORIES:Other Courses
END:VEVENT
BEGIN:VEVENT
DTSTART;VALUE=DATE:20240612
DTEND;VALUE=DATE:20240613
DTSTAMP:20260424T064639
CREATED:20240521T124113Z
LAST-MODIFIED:20240524T091224Z
UID:20697-1718150400-1718236799@www.eacmfs.org
SUMMARY:SORG Basic Maxillofacial Trauma Course
DESCRIPTION:Faculty:  \nProf. Dr. Victor Vlad Costan \nProf. Dr. Cristian Dinu \nProf. Dr. Antonio Mari Roig \nFor more information and registration: https://www.sorg-group.com/en/courses/basic-principles-in-maxillofacial-trauma/ \n 
URL:https://www.eacmfs.org/event/sorg-basic-maxillofacial-trauma-course/
LOCATION:Cluj\, Romania\, Cluj\, Romania
CATEGORIES:Other Courses
END:VEVENT
BEGIN:VEVENT
DTSTART;TZID=UTC:20240529T080000
DTEND;TZID=UTC:20240531T170000
DTSTAMP:20260424T064639
CREATED:20230925T111706Z
LAST-MODIFIED:20240222T132447Z
UID:19957-1716969600-1717174800@www.eacmfs.org
SUMMARY:Hands-on course for Oral and Maxillofacial Surgeons and Orthodontists
DESCRIPTION:Preliminary program 2024 Aarhus \nChair: Martin Dahl
URL:https://www.eacmfs.org/event/hands-on-course-for-oral-and-maxillofacial-surgeons-and-orthodontists/
LOCATION:Dept of OMFS Aarhus University Hopsital\, Entrance J\, J206\, Palle Juul-Jensens Blvd 165\, Aarhus\, DK 8200\, Denmark
CATEGORIES:Other Courses
ORGANIZER;CN="Charlotte Wilsky":MAILTO:chapur@rm.dk
END:VEVENT
BEGIN:VEVENT
DTSTART;VALUE=DATE:20240521
DTEND;VALUE=DATE:20240525
DTSTAMP:20260424T064639
CREATED:20240107T180038Z
LAST-MODIFIED:20240222T132430Z
UID:20132-1716249600-1716595199@www.eacmfs.org
SUMMARY:Barcelona Intensive Course in Orthofacial Surgery
DESCRIPTION:Director: Prof. Federico Hernandez Alfaro\nICOS COURSE- 2nd. edition \nContact Maya Avila\nat mavila@institutomaxilofacial.com
URL:https://www.eacmfs.org/event/barcelona-intensive-course-in-orthofacial-surgery/
LOCATION:Teknon Medical Center\, Calle Vilana 12\, Barcelona\, Spain
CATEGORIES:Other Courses
END:VEVENT
BEGIN:VEVENT
DTSTART;VALUE=DATE:20240517
DTEND;VALUE=DATE:20240518
DTSTAMP:20260424T064639
CREATED:20240123T095951Z
LAST-MODIFIED:20240222T132407Z
UID:20188-1715904000-1715990399@www.eacmfs.org
SUMMARY:IX Congress of the Ukrainian Association of Cranio-Maxillo-Facial Surgeons
DESCRIPTION:Chairmen: Prof V Malanchuk\, Prof O Volovar \nOrganisation: \nDepartment of  Oral and Maxillofacial Surgery\, Bogomolets National Medical University. \nStr. Zoologchna 1 | 03680 Kyiv \ninfo@uacmfs.com \nT +38066719055755
URL:https://www.eacmfs.org/event/ix-congress-of-the-ukrainian-association-of-cranio-maxillo-facial-surgeons/
CATEGORIES:Other Courses
END:VEVENT
BEGIN:VEVENT
DTSTART;VALUE=DATE:20240509
DTEND;VALUE=DATE:20240511
DTSTAMP:20260424T064639
CREATED:20240107T180525Z
LAST-MODIFIED:20240107T180556Z
UID:20135-1715212800-1715385599@www.eacmfs.org
SUMMARY:Hands-on Cadaver Intensive Course in Orthognathic Surgery and Ancillary Procedures
DESCRIPTION:FO_FC_Díptico A5_Hands on Cadaver Intensive Course in Orthognathic Surgery and Ancillary Procedures_23-24
URL:https://www.eacmfs.org/event/hands-on-cadaver-intensive-course-in-orthognathic-surgery-and-ancillary-procedures-6/
LOCATION:Universitat Internacional de Catalunya Facuty of Dentistry\, Sant Cugat Campus\, Barcelona\, 08195 Sant Cugat del Valles\, Spain
CATEGORIES:Other Courses
END:VEVENT
BEGIN:VEVENT
DTSTART;VALUE=DATE:20240419
DTEND;VALUE=DATE:20240420
DTSTAMP:20260424T064639
CREATED:20231214T095559Z
LAST-MODIFIED:20231214T095648Z
UID:20103-1713484800-1713571199@www.eacmfs.org
SUMMARY:SORG - Aesthetic Considerations in Post-Traumatic Deformities and Orthognathic Surgery
DESCRIPTION:S.O.R.G. | Debates in Dental Implantology (sorg-group.com) \nContact: \nStrasbourg Osteosynthesis Research Group \nKLS Martin Platz 1\n78532 Tuttlingen\, Germany \nTelephone: +49 7461 706-216\nFax: +49 7461 706-350\nEmail: info@sorg-group.com
URL:https://www.eacmfs.org/event/sorg-aesthetic-considerations-in-post-traumatic-deformities-and-orthognathic-surgery/
LOCATION:Hotel Catalonia Ramblas\, Pelayo 28\, Barcelona\, 08001\, Spain
CATEGORIES:Other Courses
END:VEVENT
BEGIN:VEVENT
DTSTART;VALUE=DATE:20240310
DTEND;VALUE=DATE:20240316
DTSTAMP:20260424T064639
CREATED:20240124T182915Z
LAST-MODIFIED:20240222T132244Z
UID:20213-1710028800-1710547199@www.eacmfs.org
SUMMARY:SORG Comprehensive Course
DESCRIPTION:https://www.sorg-group.com/en/courses/comprehensive-course-2024-tuttlingen/ \nOverall Course Charirman: Prof P Kessler (SORG Educational Officer) \n10/3/24 Trauma \n11/3/24  TMJ \n12/3/24 Orthognathic Surgery \n13/3/24 Cleft/Craniofacial/Aesthetic \n14/3/24 Reconstruction \n15/3/24  Preprosthetic Surgery \nContact: info@sorg-group.com \n 
URL:https://www.eacmfs.org/event/sorg-comprehensive-course-10-15-march-2024/
LOCATION:KLS Martin WORLD\, Teaching & Education Centre\, Tuittlingen\, 78532\, Germany
CATEGORIES:Other Courses
END:VEVENT
BEGIN:VEVENT
DTSTART;VALUE=DATE:20240301
DTEND;VALUE=DATE:20240303
DTSTAMP:20260424T064639
CREATED:20231203T163115Z
LAST-MODIFIED:20240222T132152Z
UID:20086-1709251200-1709423999@www.eacmfs.org
SUMMARY:SORG Course - Aalborg - Debates in Dental Implantology
DESCRIPTION:Faculty:\nProf. Dr. Christian Mertens\, D-Heidelberg\nProf. Dr. Gerry Raghoebar\, NL-Groningen\nProf. Dr. Mats Sjostrom\, S-Umea\nProf. Dr. Dr. Bernd Stadlinger\, D-Heidelberg\nProf. Dr. Thomas Starch-Jensen\, DK-Aalborg\nProf. Dr. Dr. Hendrik Terheyden\, D-Kassel \nRegstration: https://bitly.ws/32tGx \nSORG-Aalborg_Debates in Dental Implantology-3-2024
URL:https://www.eacmfs.org/event/sorg-course-aalborg-debates-in-dental-implantology/
LOCATION:Auditorium Syd\, Aalborg University Hospital\, Hobrovej 1-22\, 9000 Aalborg\, Denmark\, 9000\, Denmark
CATEGORIES:Other Courses
END:VEVENT
BEGIN:VEVENT
DTSTART;VALUE=DATE:20240126
DTEND;VALUE=DATE:20240128
DTSTAMP:20260424T064639
CREATED:20231207T200817Z
LAST-MODIFIED:20231207T200817Z
UID:20093-1706227200-1706399999@www.eacmfs.org
SUMMARY:International Training Course on Microsurgery
DESCRIPTION:Chairmen:  Steffen Koerdt\, Jonas Wuster\, Max Heiland \nOrganisation\nDepartment of Oral and Maxillofacial Surgery\nAugustenburger Platz 1 | 13353 Berlin\nmkg@charite.de\nT +49 30 450 555 022 \n2024-Microsurgery_Charite
URL:https://www.eacmfs.org/event/international-training-course-on-microsurgery/
LOCATION:Berliner Simultations & Trainingszentrum / BeST\, Campus Charite Mitte\, Chariteplarz 1\, Berlin\, 10117\, Germany
CATEGORIES:Other Courses
END:VEVENT
BEGIN:VEVENT
DTSTART;TZID=UTC:20240110T080000
DTEND;TZID=UTC:20240111T170000
DTSTAMP:20260424T064639
CREATED:20231002T115236Z
LAST-MODIFIED:20231002T115256Z
UID:19999-1704873600-1704992400@www.eacmfs.org
SUMMARY:Newcastle 8th Cadaveric Speech and Palatal Surgery Course
DESCRIPTION:Theoretical speech assessment\, investigation and surgery \nCadaveric dissections. \newcastle Flyer January 2024
URL:https://www.eacmfs.org/event/newcaastle-8th-cadaveric-speech-and-palatal-surgery-course/
LOCATION:Newcastle Surgical Training Centre\, Freeman Hospital\, Newcastle\, NE7 7DN\, UK
CATEGORIES:Other Courses
END:VEVENT
BEGIN:VEVENT
DTSTART;VALUE=DATE:20231128
DTEND;VALUE=DATE:20231129
DTSTAMP:20260424T064639
CREATED:20230811T143741Z
LAST-MODIFIED:20230811T143741Z
UID:19887-1701129600-1701215999@www.eacmfs.org
SUMMARY:Day Case Oral & Maxillofacial Surgery - Virtual Conference
DESCRIPTION:https://www.healthcareconferencesuk.co.uk/conferences-masterclasses/maxillofacial-day-surgery?utm_medium=email&utm_source=HCUKKH&utm_campaign=MaxFaxNov2 \nContact – Kate Hall – kate@hc-uk.org.uk
URL:https://www.eacmfs.org/event/day-case-oral-maxillofacial-surgery-virtual-conference-2/
CATEGORIES:Other Courses
END:VEVENT
BEGIN:VEVENT
DTSTART;TZID=UTC:20231115T080000
DTEND;TZID=UTC:20231116T170000
DTSTAMP:20260424T064639
CREATED:20230927T143410Z
LAST-MODIFIED:20230927T143543Z
UID:19995-1700035200-1700154000@www.eacmfs.org
SUMMARY:Bi-Annual Amsterdam SORG Facial Trauma Cadaveric Course - Panfacial Trauma Management
DESCRIPTION:Including Anatomical Hands-on Dissection Part \nhttps://www.sorg-group.com/en/courses/panfacial-trauma-management/
URL:https://www.eacmfs.org/event/bi-annual-amsterdam-sorg-facial-trauma-cadaveric-course-panfacial-trauma-management/
LOCATION:Amsterdam Skill Center ASC\, Amsterdam\, The Netherlands\, Netherlands
CATEGORIES:Other Courses
ORGANIZER;CN="SORG Secretary":MAILTO:info@sorg-group.com
END:VEVENT
BEGIN:VEVENT
DTSTART;VALUE=DATE:20231114
DTEND;VALUE=DATE:20231118
DTSTAMP:20260424T064639
CREATED:20230703T144822Z
LAST-MODIFIED:20230703T144822Z
UID:19778-1699920000-1700265599@www.eacmfs.org
SUMMARY:Intensive Course in Orthofacial Surgery
DESCRIPTION:Director:  Prof Federico Hernandez Alfaro \nContact: Maya Avila – mavila@institutomaxillofacial.com \n_’BARCELONA’ Course
URL:https://www.eacmfs.org/event/intensive-course-in-orthofacial-surgery/
LOCATION:Teknon Medical Center\, Calle Vilana 12\, Barcelona\, Spain
CATEGORIES:Other Courses
END:VEVENT
BEGIN:VEVENT
DTSTART;VALUE=DATE:20231027
DTEND;VALUE=DATE:20231029
DTSTAMP:20260424T064639
CREATED:20230825T150430Z
LAST-MODIFIED:20230825T150430Z
UID:19905-1698364800-1698537599@www.eacmfs.org
SUMMARY:IBRA Advanced Course - Current Concepts on Treatment of Facial Fractures & Reconstruction
DESCRIPTION:https://www.ibra.net/events/-/List/$/Current-Concepts-on-Treatment-of-Facial-Fractures-Reconstruction/541 \nChairperson: \nDr. Dr. Lars Bonitz\, Dortmund\, Deutschland \n 
URL:https://www.eacmfs.org/event/ibra-advanced-course-current-concepts-on-treatment-of-facial-fractures-reconstruction/
LOCATION:Mercure Warszawa Centrum\, ul. Zlota 48/54\, Warsaw\, 00-120\, Poland
CATEGORIES:Other Courses
ORGANIZER;CN="IBRA Administration Office":MAILTO:info@ibra.net
END:VEVENT
BEGIN:VEVENT
DTSTART;TZID=UTC:20231019T080000
DTEND;TZID=UTC:20231021T170000
DTSTAMP:20260424T064639
CREATED:20230607T144920Z
LAST-MODIFIED:20230607T144920Z
UID:19736-1697702400-1697907600@www.eacmfs.org
SUMMARY:SORG Cleft and Face Maastricht 2023
DESCRIPTION:Fresh Frozen Cadaver Preparations \nhttps://www.sorg-group.com/en/courses/cleft-and-face-maastricht-2023/ \nCourse Directors:  Prof P Kessler\, Prof G Swennen
URL:https://www.eacmfs.org/event/sorg-cleft-and-face-maastricht-2023/
LOCATION:University Hospital MUMC\, P. Debyelaan 25\, Maastricht\, 6229 HX\, Netherlands
CATEGORIES:Other Courses
END:VEVENT
BEGIN:VEVENT
DTSTART;VALUE=DATE:20231004
DTEND;VALUE=DATE:20231008
DTSTAMP:20260424T064639
CREATED:20230703T142622Z
LAST-MODIFIED:20230703T142650Z
UID:19773-1696377600-1696723199@www.eacmfs.org
SUMMARY:58th Congress Societe Francaise de Stomatologie Chirurgie Maxillo-Faciale et Chirurgie orale
DESCRIPTION:https://www.aoscongres.com/cmf2023/inscription
URL:https://www.eacmfs.org/event/58th-congress-societe-francaise-de-stomatologie-chirurgie-maxill-faciale-et-chirurgie-orale/
LOCATION:Centre des Congres Pierre Baudis\, Toulouse\, France
CATEGORIES:Other Courses
END:VEVENT
BEGIN:VEVENT
DTSTART;TZID=UTC:20230922T080000
DTEND;TZID=UTC:20230923T170000
DTSTAMP:20260424T064639
CREATED:20230224T102442Z
LAST-MODIFIED:20230224T102442Z
UID:19535-1695369600-1695488400@www.eacmfs.org
SUMMARY:Orthognathic Surgery - International Summit 2023
DESCRIPTION:‘The face is the mirror of the soul’ \northognathic-surgery-international-summit-2023
URL:https://www.eacmfs.org/event/orthognathic-surgery-international-summit-2023/
LOCATION:Ilustre Colegio Oficial de Odontologos y Estomatologoes de la 1o Region\, C/ Mauricio Legendre\, 38\, Madrid\, 28046\, Spain
CATEGORIES:Other Courses
END:VEVENT
BEGIN:VEVENT
DTSTART;TZID=UTC:20230921T080000
DTEND;TZID=UTC:20230922T170000
DTSTAMP:20260424T064639
CREATED:20230302T085206Z
LAST-MODIFIED:20230302T085206Z
UID:19549-1695283200-1695402000@www.eacmfs.org
SUMMARY:The Liverpool Head and Neck Dissection Course
DESCRIPTION:https://sites.google.com/view/liverpoolheadandneckcourse/home
URL:https://www.eacmfs.org/event/the-liverpool-head-and-neck-dissection-course/
LOCATION:Human Anatomoy Resource Centre\, Sherrington Building\, Ashton St\, Liverpool\, L69 3GE\, United Kingdom
CATEGORIES:Other Courses
END:VEVENT
BEGIN:VEVENT
DTSTART;VALUE=DATE:20230918
DTEND;VALUE=DATE:20230924
DTSTAMP:20260424T064639
CREATED:20230419T132555Z
LAST-MODIFIED:20230419T132555Z
UID:19628-1694995200-1695513599@www.eacmfs.org
SUMMARY:105th AAOMS Annual Meeting
DESCRIPTION:https://www.aaoms.org/meetings-exhibitions/annual-meeting/105th-annual-meeting
URL:https://www.eacmfs.org/event/105th-aaoms-annual-meeting/
LOCATION:Hilton San Diego Bayfront\, 1 Park Blvd\, San Diego\, California\, 92101
CATEGORIES:Other Courses
END:VEVENT
BEGIN:VEVENT
DTSTART;VALUE=DATE:20230915
DTEND;VALUE=DATE:20230917
DTSTAMP:20260424T064639
CREATED:20230620T113335Z
LAST-MODIFIED:20230620T113405Z
UID:19755-1694736000-1694908799@www.eacmfs.org
SUMMARY:IBRA - Orthognathic Surgery
DESCRIPTION:Programm_Basel_2023_September_v27-04-2023_2 \nChairpersons:  Prof P Jurgens\, Prof A Neff
URL:https://www.eacmfs.org/event/ibra-orthognathic-surgery/
LOCATION:IBRA Basel\, Switzerland\, IBRA Institute\, BioSkills Lab\, Basel\, CH-4057\, Switzerland
CATEGORIES:Other Courses
END:VEVENT
BEGIN:VEVENT
DTSTART;VALUE=DATE:20230907
DTEND;VALUE=DATE:20230909
DTSTAMP:20260424T064639
CREATED:20230503T155429Z
LAST-MODIFIED:20230503T155607Z
UID:19676-1694044800-1694217599@www.eacmfs.org
SUMMARY:AO CMF Course - Management of Facial Trauma
DESCRIPTION:Chairpersons: Shakir Mustafa\, Richard Graham \nAO CMF version (1)_230429_123638 \n 
URL:https://www.eacmfs.org/event/ao-cmf-course-management-of-facial-trauma/
LOCATION:Delta by Marriott Hotel Nottingham Belfry\, Nottingham\, United Kingdom
CATEGORIES:Other Courses
END:VEVENT
BEGIN:VEVENT
DTSTART;TZID=UTC:20230905T080000
DTEND;TZID=UTC:20230907T170000
DTSTAMP:20260424T064639
CREATED:20230725T123849Z
LAST-MODIFIED:20230725T124445Z
UID:19791-1693900800-1694106000@www.eacmfs.org
SUMMARY:3rd International Sialendoscopy Conference
DESCRIPTION:3rd International Sialendoscopy Conference \nhttp://www.sialendoscopy-geneva.com \nFrancis Marchal\, MD\, FACS\nESTC Director\nMSGS President\nISIAL President
URL:https://www.eacmfs.org/event/3rd-international-sialendoscopy-conference/
LOCATION:Clinique Générale Beaulieu\, Chemin de Beau-Soleil 20 – 1206 Geneva\, Switzerland\, Geneva\, 1206\, Switzerland
CATEGORIES:Other Courses
END:VEVENT
END:VCALENDAR