
BEGIN:VCALENDAR
VERSION:2.0
PRODID:-//EACMFS - ECPv6.15.20//NONSGML v1.0//EN
CALSCALE:GREGORIAN
METHOD:PUBLISH
X-WR-CALNAME:EACMFS
X-ORIGINAL-URL:https://www.eacmfs.org
X-WR-CALDESC:Events for EACMFS
REFRESH-INTERVAL;VALUE=DURATION:PT1H
X-Robots-Tag:noindex
X-PUBLISHED-TTL:PT1H
BEGIN:VTIMEZONE
TZID:UTC
BEGIN:STANDARD
TZOFFSETFROM:+0000
TZOFFSETTO:+0000
TZNAME:UTC
DTSTART:20250101T000000
END:STANDARD
END:VTIMEZONE
BEGIN:VEVENT
DTSTART;VALUE=DATE:20260911
DTEND;VALUE=DATE:20260913
DTSTAMP:20260423T082652
CREATED:20260326T141352Z
LAST-MODIFIED:20260326T141352Z
UID:22605-1789084800-1789257599@www.eacmfs.org
SUMMARY:IBRA Master Course with anatomical specimens: Orthognathic Surgery
DESCRIPTION:Language: English \nChairperson: Prof. Dr. Dr. Philipp Jürgens\, Munich\, Germany and Prof. Dr. Dr. Johannes Kleinheinz\, Münster\, Germany \nMore information HERE
URL:https://www.eacmfs.org/event/ibra-master-course-with-anatomical-specimens-orthognathic-surgery/
LOCATION:IBRA Basel\, Switzerland\, IBRA Institute\, BioSkills Lab\, Basel\, CH-4057\, Switzerland
CATEGORIES:Other Courses
END:VEVENT
BEGIN:VEVENT
DTSTART;VALUE=DATE:20260928
DTEND;VALUE=DATE:20261004
DTSTAMP:20260423T082652
CREATED:20240415T141425Z
LAST-MODIFIED:20250826T100748Z
UID:20562-1790553600-1791071999@www.eacmfs.org
SUMMARY:108th Annual Meeting\, Scientific Sessions and Exhibition
DESCRIPTION:Website: 108th Annual Meeting\, Scientific Sessions and Exhibition – AAOMS | AAOMS
URL:https://www.eacmfs.org/event/aaoms-2/
LOCATION:Seattle Convention Center\, Howell Street 808\, Seattle\, WA\, 98101\, United States
CATEGORIES:Other Courses
END:VEVENT
BEGIN:VEVENT
DTSTART;VALUE=DATE:20261001
DTEND;VALUE=DATE:20261004
DTSTAMP:20260423T082652
CREATED:20251021T081734Z
LAST-MODIFIED:20251021T081734Z
UID:22142-1790812800-1791071999@www.eacmfs.org
SUMMARY:94th International Advanced Course for Stepwise Flap Raising Berlin – The Next Level (including pulsatile perforator flaps)
DESCRIPTION:Course Chairman\, Organisation and Registration – Univ.-Prof. Dr. Dr. Frank Hölzle \nhttps://www.ukaachen.de/  \n👉 Registration Information:  Click here \nCourse secretaries\nRuth Lennartz / Alina Hilgers\nTel.: 0241 80-88246 / 80-88243\nFax: 0241 80-82430\nrlennartz@ukaachen.de\nmkg-chirurgie@ukaachen.de
URL:https://www.eacmfs.org/event/94th-international-advanced-course-for-stepwise-flap-raising-berlin-the-next-level-including-pulsatile-perforator-flaps/
LOCATION:Institute of Anatomy\, Charite\, University of Berlin\, Berlin\, 10115\, Germany
CATEGORIES:Rolling Programme
END:VEVENT
BEGIN:VEVENT
DTSTART;VALUE=DATE:20261007
DTEND;VALUE=DATE:20261010
DTSTAMP:20260423T082652
CREATED:20251021T081024Z
LAST-MODIFIED:20260331T113208Z
UID:22135-1791331200-1791590399@www.eacmfs.org
SUMMARY:95th International Contrast Course
DESCRIPTION:Course Chairman – Univ.-Prof. Dr. Dr. Frank Hölzle \nSenior Course Chairman- Univ.-Prof. Dr. Dr. Klaus-Dietrich Wolff \nCourse Chairman – Mr. D. A. Mitchell \nhttps://www.ukaachen.de/kliniken-institute/klinik-fuer-mund-kiefer-und-gesichtschirurgie/ \n👉 Registration Information:  Click here \nCourse secretaries\nRuth Lennartz / Alina Hilgers\nUniklinik RWTH Aachen\nPhone: +49 241 80-88246 / 80-88243\nFax: +49 241 80-82430\nmkg-chirurgie@ukaachen.de\nwww.mkg.ukaachen.de
URL:https://www.eacmfs.org/event/95th-international-jubilee-contrast-course/
LOCATION:KAFFZ\, Institute of Anatomy\, Ruhr-Universitat Bochum\, Universitatsstrasse 150\, Building MA\, Bochum\, 44801\, Germany
CATEGORIES:Rolling Programme
END:VEVENT
BEGIN:VEVENT
DTSTART;VALUE=DATE:20261019
DTEND;VALUE=DATE:20261023
DTSTAMP:20260423T082652
CREATED:20260330T135239Z
LAST-MODIFIED:20260330T135454Z
UID:22611-1792368000-1792713599@www.eacmfs.org
SUMMARY:Liverpool Advanced Head & Neck Reconstruction Course
DESCRIPTION:An advanced course for delegates with prior surgical experience of routine free tissue harvest (as a minimum) with ambition to develop complex free tissue transfer ability/techniques and associated skills. \nCourse Directors:\nAndrew Schache Liverpool\nMichael Ho Leeds \nCourse contact\nCourse Directors Andrew Schache & Michael Ho\nEmail Schache@liverpool.ac.uk\nTelephone 07769652172 \nMore information HERE
URL:https://www.eacmfs.org/event/liverpool-advanced-head-neck-reconstruction-course-2/
LOCATION:Human Anatomy Resource Centre (HARC)\, Ashton St\, Liverpool\, Liverpool\, L69 3GE\, United Kingdom
CATEGORIES:Rolling Programme
END:VEVENT
BEGIN:VEVENT
DTSTART;VALUE=DATE:20261108
DTEND;VALUE=DATE:20261111
DTSTAMP:20260423T082652
CREATED:20260112T111421Z
LAST-MODIFIED:20260112T111649Z
UID:22324-1794096000-1794355199@www.eacmfs.org
SUMMARY:PRS Korea 2026
DESCRIPTION:
URL:https://www.eacmfs.org/event/prs-korea-2026/
LOCATION:Grand Intercontiental Seoul Parnas\, Seoul\, Korea\, Seoul
CATEGORIES:Other Courses
END:VEVENT
BEGIN:VEVENT
DTSTART;VALUE=DATE:20261110
DTEND;VALUE=DATE:20261114
DTSTAMP:20260423T082652
CREATED:20260219T122057Z
LAST-MODIFIED:20260219T122057Z
UID:22455-1794268800-1794614399@www.eacmfs.org
SUMMARY:Barcelona Intensive Course in Orthofacial Surgery
DESCRIPTION:More information HERE \nTo apply to this program\, please contact Maya Ávila at mavila@institutomaxilofacial.com \n  \n 
URL:https://www.eacmfs.org/event/barcelona-intensive-course-in-orthofacial-surgery-2/
LOCATION:Teknon Medical Center\, Calle Vilana 12\, Barcelona\, Spain
CATEGORIES:Other Courses
END:VEVENT
BEGIN:VEVENT
DTSTART;VALUE=DATE:20261127
DTEND;VALUE=DATE:20261129
DTSTAMP:20260423T082652
CREATED:20260326T141510Z
LAST-MODIFIED:20260326T141510Z
UID:22607-1795737600-1795910399@www.eacmfs.org
SUMMARY:IBRA Master Course with anatomical specimens: Virtual Surgical Planning of Mandibular Reconstruction Using Free Fibular Flap with Immediate Dental Implantation
DESCRIPTION:Language: English \nChairperson: Prof. Dr. Dr. Christian Freudlsperger\, Auckland\, New Zealand and Prof. Dr. Dr. Benoit Schaller\, Bern\, Switzerland \nMore information HERE
URL:https://www.eacmfs.org/event/ibra-master-course-with-anatomical-specimens-virtual-surgical-planning-of-mandibular-reconstruction-using-free-fibular-flap-with-immediate-dental-implantation/
LOCATION:IBRA Basel\, Switzerland\, IBRA Institute\, BioSkills Lab\, Basel\, CH-4057\, Switzerland
CATEGORIES:Other Courses
END:VEVENT
BEGIN:VEVENT
DTSTART;VALUE=DATE:20261210
DTEND;VALUE=DATE:20261213
DTSTAMP:20260423T082652
CREATED:20260119T142221Z
LAST-MODIFIED:20260119T142252Z
UID:22361-1796860800-1797119999@www.eacmfs.org
SUMMARY:96th International Course for Stepwise Flap Raising
DESCRIPTION:Course Chairman\, Organisation and Registration\nUniv.-Prof. Dr. Dr. F. Hölzle\, MD DDS PhD FEBOMFS\nHead of Department of Oral and Maxillofacial Surgery\nExecutive Officer EACMFS\nExecutive Officer UEMS OMFS (EU) \nCourse secretaries\nRuth Lennartz | Alina Hilgers\nPhone: +49 241 80-88246 / 80-88243\nFax: +49 241 80-82430\nrlennartz@ukaachen.de\nahilgers@ukaachen.de \nPlease click here for further information
URL:https://www.eacmfs.org/event/96th-international-course-for-stepwise-flap-raising/
LOCATION:Institute of Anatomy Munich\, Ludwig Maximilians University\, Munich\, Germany
CATEGORIES:Rolling Programme
END:VEVENT
BEGIN:VEVENT
DTSTART;VALUE=DATE:20270211
DTEND;VALUE=DATE:20270214
DTSTAMP:20260423T082652
CREATED:20260316T083713Z
LAST-MODIFIED:20260316T083713Z
UID:22561-1802304000-1802563199@www.eacmfs.org
SUMMARY:97th International Course for Stepwise Flap Raising
DESCRIPTION:Course Chairman: Univ.-Prof. Dr. Dr. F. Hölzle\, MD DDS PhD FEBOMFS \nCourse secretaries\nRuth Lennartz | Alina Hilgers\nPhone: +49 241 80-88246 / +49 241 80-88243\nFax: +49 241 80-82430\nmkg-chirurgie@ukaachen.de\nwww.mkg.ukaachen.de \nInformation and registration HERE
URL:https://www.eacmfs.org/event/97th-international-course-for-stepwise-flap-raising/
LOCATION:Institute Of Anatomy\, Aachen\, Wendlingweg 2\, Aachen\, 52074\, Germany
CATEGORIES:Rolling Programme
END:VEVENT
BEGIN:VEVENT
DTSTART;VALUE=DATE:20270301
DTEND;VALUE=DATE:20270306
DTSTAMP:20260423T082652
CREATED:20260331T123554Z
LAST-MODIFIED:20260331T145528Z
UID:22623-1803859200-1804291199@www.eacmfs.org
SUMMARY:35th Liverpool Practical Microvascular Course 2027
DESCRIPTION:Head & Neck Reconstructive Surgery is a complex and highly technically challenging field central to effective management of oncologic and other defects. This is the only UK practical and theoretical microvascular course designed solely for\, led by\, and taught by OMFS surgeons. \nCourse Leader: Professor Richard Shaw \nCourse Description  \n• The only UK course designed and delivered specifically for Head & Neck Reconstructive Surgeons\n• Live microvascular animal epigastric / femoral training model\n• Complete ‘Hands-on’ format approx. 30 hours\n• Integrated Microvascular Reconstruction Tutorials\n• Accredited by RCS (Eng.)\, BAOMS & EACMFS\n• Faculty: International experts & UK OMFS depts \n  \nEarly-bird rate: £2000 (£2200 after 1 February 2027) \nStrictly limited to 10 delegates per course \n32 CME Credits & Certificate \nIncludes: \nAll Home Office Licenses \nAll instruments\, sutures and consumables \nBreakfast\, refreshments & lunch provided Monday – Friday \nCourse dinner at a top Liverpool restaurant \n  \nRegistration: https://payments.liv.ac.uk/short-courses/short-courses-at-liverpool/liverpool-head-neck-centre/lhnc-liverpool-practical-microvascular-course-2027?token=4d5e0273a4a55de0cde6ebc68ffcd671 \nCourse information: https://livheadandneck.co.uk/professionals/courses \nContact for queries: LHNCcourses@liverpool.ac.uk
URL:https://www.eacmfs.org/event/35th-liverpool-practical-microvascular-course-2027/
LOCATION:University of Liverpool\, Liverpool\, UK
CATEGORIES:Rolling Programme
END:VEVENT
BEGIN:VEVENT
DTSTART;VALUE=DATE:20270303
DTEND;VALUE=DATE:20270307
DTSTAMP:20260423T082652
CREATED:20250407T150621Z
LAST-MODIFIED:20250407T150638Z
UID:21747-1804032000-1804377599@www.eacmfs.org
SUMMARY:European Congress on Head and Neck Oncology
DESCRIPTION:Website: www.echno2027.com \nFlyer: ECHNO2027flyer
URL:https://www.eacmfs.org/event/european-congress-on-head-and-neck-oncology-2/
LOCATION:Berlin\, Berlin\, Germany
CATEGORIES:Other Courses
END:VEVENT
BEGIN:VEVENT
DTSTART;VALUE=DATE:20270310
DTEND;VALUE=DATE:20270320
DTSTAMP:20260423T082652
CREATED:20260331T114805Z
LAST-MODIFIED:20260331T114805Z
UID:22620-1804636800-1805500799@www.eacmfs.org
SUMMARY:98th International Course for Flap Raising & Microsurgery
DESCRIPTION:Course Chairmen: \nProf F. Hölzle \nProf K.D. Wolff \nMr D.A. Mitchell \nProf A. Kanatas \nhttps://www.ukaachen.de/  \n Registration Information:  Click here  \nCourse secretaries\nRuth Lennartz / Alina Hilgers\nTel.: 0241 80-88246 / 80-88243\nFax: 0241 80-82430\nrlennartz@ukaachen.de\nmkg-chirurgie@ukaachen.de
URL:https://www.eacmfs.org/event/98th-international-course-for-flap-raising-microsurgery/
LOCATION:KAFFZ\, Institute of Anatomy\, Ruhr-Universitat Bochum\, Universitatsstrasse 150\, Building MA\, Bochum\, 44801\, Germany
CATEGORIES:Rolling Programme
END:VEVENT
BEGIN:VEVENT
DTSTART;VALUE=DATE:20270920
DTEND;VALUE=DATE:20270926
DTSTAMP:20260423T082652
CREATED:20240415T141612Z
LAST-MODIFIED:20250826T101900Z
UID:20566-1821398400-1821916799@www.eacmfs.org
SUMMARY:109th Annual Meeting\, Scientific Sessions and Exhibition
DESCRIPTION:Website: 109th Annual Meeting\, Scientific Sessions and Exhibition – AAOMS | AAOMS
URL:https://www.eacmfs.org/event/aaoms-san-antonio-texas/
LOCATION:Henry B Gonzalez Convention Center – Grand Hyatt San Antonio\, East Market Street 900\, San Antonio\, 78205
CATEGORIES:Other Courses
END:VEVENT
BEGIN:VEVENT
DTSTART;VALUE=DATE:20271014
DTEND;VALUE=DATE:20271018
DTSTAMP:20260423T082652
CREATED:20251027T112256Z
LAST-MODIFIED:20251027T112256Z
UID:22157-1823472000-1823817599@www.eacmfs.org
SUMMARY:ICOMS 2027 - Berlin\, Germany
DESCRIPTION:More information; info@iaoms.org
URL:https://www.eacmfs.org/event/icoms-2027-berlin-germany/
LOCATION:JW Marriott Hotel Berlin\, Stauffenbergstraße 26\, Berlin\, 10785\, Germany
CATEGORIES:Other Courses
END:VEVENT
BEGIN:VEVENT
DTSTART;VALUE=DATE:20280911
DTEND;VALUE=DATE:20280917
DTSTAMP:20260423T082652
CREATED:20250826T102250Z
LAST-MODIFIED:20250826T102250Z
UID:22005-1852243200-1852761599@www.eacmfs.org
SUMMARY:110th Annual Meeting\, Scientific Sessions and Exhibition
DESCRIPTION:Website: 110th Annual Meeting\, Scientific Sessions and Exhibition – AAOMS | AAOMS
URL:https://www.eacmfs.org/event/110th-annual-meeting-scientific-sessions-and-exhibition/
LOCATION:Tampa Convention Center – JW Marriott Tampa Water Street\, South Franklin Street 333\, Tampa\, FL\, United States
CATEGORIES:Other Courses
END:VEVENT
END:VCALENDAR